BEGIN:VCALENDAR
VERSION:2.0
PRODID:-//Roaring Spring First Church of the Brethren - ECPv6.11.2.1//NONSGML v1.0//EN
CALSCALE:GREGORIAN
METHOD:PUBLISH
X-WR-CALNAME:Roaring Spring First Church of the Brethren
X-ORIGINAL-URL:https://rsfirstchurch.org
X-WR-CALDESC:Events for Roaring Spring First Church of the Brethren
REFRESH-INTERVAL;VALUE=DURATION:PT1H
X-Robots-Tag:noindex
X-PUBLISHED-TTL:PT1H
BEGIN:VTIMEZONE
TZID:America/New_York
BEGIN:DAYLIGHT
TZOFFSETFROM:-0500
TZOFFSETTO:-0400
TZNAME:EDT
DTSTART:20230312T070000
END:DAYLIGHT
BEGIN:STANDARD
TZOFFSETFROM:-0400
TZOFFSETTO:-0500
TZNAME:EST
DTSTART:20231105T060000
END:STANDARD
END:VTIMEZONE
BEGIN:VEVENT
DTSTART;TZID=America/New_York:20231206T090000
DTEND;TZID=America/New_York:20231206T100000
DTSTAMP:20260422T184348
CREATED:20231130T134949Z
LAST-MODIFIED:20231130T134949Z
UID:10005464-1701853200-1701856800@rsfirstchurch.org
SUMMARY:Ladies Aid
DESCRIPTION:
URL:https://rsfirstchurch.org/event/ladies-aid/
END:VEVENT
BEGIN:VEVENT
DTSTART;TZID=America/New_York:20231206T130000
DTEND;TZID=America/New_York:20231206T140000
DTSTAMP:20260422T184348
CREATED:20231130T135134Z
LAST-MODIFIED:20231130T135134Z
UID:10005467-1701867600-1701871200@rsfirstchurch.org
SUMMARY:Prayer Shawl Ministry
DESCRIPTION:
URL:https://rsfirstchurch.org/event/prayer-shawl-ministry/
END:VEVENT
BEGIN:VEVENT
DTSTART;TZID=America/New_York:20231206T174500
DTEND;TZID=America/New_York:20231206T184500
DTSTAMP:20260422T184348
CREATED:20231130T133431Z
LAST-MODIFIED:20231130T133530Z
UID:10005459-1701884700-1701888300@rsfirstchurch.org
SUMMARY:ReCharge
DESCRIPTION:
URL:https://rsfirstchurch.org/event/recharge-4/
END:VEVENT
BEGIN:VEVENT
DTSTART;TZID=America/New_York:20231206T183000
DTEND;TZID=America/New_York:20231206T193000
DTSTAMP:20260422T184348
CREATED:20231130T135321Z
LAST-MODIFIED:20231130T135321Z
UID:10005470-1701887400-1701891000@rsfirstchurch.org
SUMMARY:Chancel Choir Practice
DESCRIPTION:
URL:https://rsfirstchurch.org/event/chancel-choir-practice-2/
END:VEVENT
END:VCALENDAR