BEGIN:VCALENDAR
VERSION:2.0
PRODID:-//Roaring Spring First Church of the Brethren - ECPv6.11.2.1//NONSGML v1.0//EN
CALSCALE:GREGORIAN
METHOD:PUBLISH
X-ORIGINAL-URL:https://rsfirstchurch.org
X-WR-CALDESC:Events for Roaring Spring First Church of the Brethren
REFRESH-INTERVAL;VALUE=DURATION:PT1H
X-Robots-Tag:noindex
X-PUBLISHED-TTL:PT1H
BEGIN:VTIMEZONE
TZID:America/New_York
BEGIN:DAYLIGHT
TZOFFSETFROM:-0500
TZOFFSETTO:-0400
TZNAME:EDT
DTSTART:20230312T070000
END:DAYLIGHT
BEGIN:STANDARD
TZOFFSETFROM:-0400
TZOFFSETTO:-0500
TZNAME:EST
DTSTART:20231105T060000
END:STANDARD
END:VTIMEZONE
BEGIN:VEVENT
DTSTART;VALUE=DATE:20231210
DTEND;VALUE=DATE:20231211
DTSTAMP:20260422T190555
CREATED:20230119T190600Z
LAST-MODIFIED:20230119T190600Z
UID:10002805-1702166400-1702252799@rsfirstchurch.org
SUMMARY:Food Bank Collection
DESCRIPTION:
URL:https://rsfirstchurch.org/event/food-bank-collection/2023-12-10/
END:VEVENT
BEGIN:VEVENT
DTSTART;TZID=America/New_York:20231210T092500
DTEND;TZID=America/New_York:20231210T092500
DTSTAMP:20260422T190555
CREATED:20230119T183707Z
LAST-MODIFIED:20240620T140142Z
UID:10000051-1702200300-1702200300@rsfirstchurch.org
SUMMARY:Worship
DESCRIPTION:
URL:https://rsfirstchurch.org/event/worship/2023-12-10/
END:VEVENT
BEGIN:VEVENT
DTSTART;TZID=America/New_York:20231210T103000
DTEND;TZID=America/New_York:20231210T103000
DTSTAMP:20260422T190555
CREATED:20230119T184106Z
LAST-MODIFIED:20260312T122652Z
UID:10008322-1702204200-1702204200@rsfirstchurch.org
SUMMARY:Sunday School
DESCRIPTION:
URL:https://rsfirstchurch.org/event/sunday-school/2023-12-10/
END:VEVENT
END:VCALENDAR