BEGIN:VCALENDAR
VERSION:2.0
PRODID:-//Roaring Spring First Church of the Brethren - ECPv6.11.2.1//NONSGML v1.0//EN
CALSCALE:GREGORIAN
METHOD:PUBLISH
X-WR-CALNAME:Roaring Spring First Church of the Brethren
X-ORIGINAL-URL:https://rsfirstchurch.org
X-WR-CALDESC:Events for Roaring Spring First Church of the Brethren
REFRESH-INTERVAL;VALUE=DURATION:PT1H
X-Robots-Tag:noindex
X-PUBLISHED-TTL:PT1H
BEGIN:VTIMEZONE
TZID:America/New_York
BEGIN:DAYLIGHT
TZOFFSETFROM:-0500
TZOFFSETTO:-0400
TZNAME:EDT
DTSTART:20230312T070000
END:DAYLIGHT
BEGIN:STANDARD
TZOFFSETFROM:-0400
TZOFFSETTO:-0500
TZNAME:EST
DTSTART:20231105T060000
END:STANDARD
END:VTIMEZONE
BEGIN:VEVENT
DTSTART;TZID=America/New_York:20231214T090000
DTEND;TZID=America/New_York:20231214T090000
DTSTAMP:20260422T143040
CREATED:20230119T185011Z
LAST-MODIFIED:20240403T151049Z
UID:10001879-1702544400-1702544400@rsfirstchurch.org
SUMMARY:Breakfast Fellowship at Spring House Grille
DESCRIPTION:
URL:https://rsfirstchurch.org/event/breakfast-fellowship-at-spring-house-grille/2023-12-14/
END:VEVENT
BEGIN:VEVENT
DTSTART;TZID=America/New_York:20231214T090000
DTEND;TZID=America/New_York:20231214T100000
DTSTAMP:20260422T143040
CREATED:20231130T140336Z
LAST-MODIFIED:20231130T140336Z
UID:10005474-1702544400-1702548000@rsfirstchurch.org
SUMMARY:Bulletin Deadline
DESCRIPTION:
URL:https://rsfirstchurch.org/event/bulletin-deadline-2/
END:VEVENT
BEGIN:VEVENT
DTSTART;TZID=America/New_York:20231214T100000
DTEND;TZID=America/New_York:20231214T110000
DTSTAMP:20260422T143040
CREATED:20231130T135601Z
LAST-MODIFIED:20231130T135601Z
UID:10005473-1702548000-1702551600@rsfirstchurch.org
SUMMARY:J O Y Christmas Social
DESCRIPTION:
URL:https://rsfirstchurch.org/event/j-o-y-christmas-social/
END:VEVENT
BEGIN:VEVENT
DTSTART;TZID=America/New_York:20231214T183000
DTEND;TZID=America/New_York:20231214T203000
DTSTAMP:20260422T143040
CREATED:20231130T140528Z
LAST-MODIFIED:20231130T140528Z
UID:10005475-1702578600-1702585800@rsfirstchurch.org
SUMMARY:Knitting Group in Parlor
DESCRIPTION:
URL:https://rsfirstchurch.org/event/knitting-group-in-parlor-2/
END:VEVENT
END:VCALENDAR