BEGIN:VCALENDAR
VERSION:2.0
PRODID:-//Roaring Spring First Church of the Brethren - ECPv6.11.2.1//NONSGML v1.0//EN
CALSCALE:GREGORIAN
METHOD:PUBLISH
X-ORIGINAL-URL:https://rsfirstchurch.org
X-WR-CALDESC:Events for Roaring Spring First Church of the Brethren
REFRESH-INTERVAL;VALUE=DURATION:PT1H
X-Robots-Tag:noindex
X-PUBLISHED-TTL:PT1H
BEGIN:VTIMEZONE
TZID:America/New_York
BEGIN:DAYLIGHT
TZOFFSETFROM:-0500
TZOFFSETTO:-0400
TZNAME:EDT
DTSTART:20240310T070000
END:DAYLIGHT
BEGIN:STANDARD
TZOFFSETFROM:-0400
TZOFFSETTO:-0500
TZNAME:EST
DTSTART:20241103T060000
END:STANDARD
END:VTIMEZONE
BEGIN:VEVENT
DTSTART;VALUE=DATE:20240115
DTEND;VALUE=DATE:20240116
DTSTAMP:20260422T103228
CREATED:20230120T155844Z
LAST-MODIFIED:20230120T155844Z
UID:10004184-1705276800-1705363199@rsfirstchurch.org
SUMMARY:Office Closed
DESCRIPTION:
URL:https://rsfirstchurch.org/event/office-closed-12/
END:VEVENT
BEGIN:VEVENT
DTSTART;TZID=America/New_York:20240115T100000
DTEND;TZID=America/New_York:20240115T110000
DTSTAMP:20260422T103229
CREATED:20230119T191553Z
LAST-MODIFIED:20230120T160744Z
UID:10003050-1705312800-1705316400@rsfirstchurch.org
SUMMARY:Book Group
DESCRIPTION:
URL:https://rsfirstchurch.org/event/book-group/2024-01-15/
END:VEVENT
BEGIN:VEVENT
DTSTART;TZID=America/New_York:20240115T130000
DTEND;TZID=America/New_York:20240115T140000
DTSTAMP:20260422T103229
CREATED:20230119T191109Z
LAST-MODIFIED:20230120T155655Z
UID:10004183-1705323600-1705327200@rsfirstchurch.org
SUMMARY:Newsletter Submission Deadline
DESCRIPTION:
URL:https://rsfirstchurch.org/event/newsletter-submission-deadline/2024-01-15/
END:VEVENT
BEGIN:VEVENT
DTSTART;TZID=America/New_York:20240115T190000
DTEND;TZID=America/New_York:20240115T200000
DTSTAMP:20260422T103229
CREATED:20231221T124705Z
LAST-MODIFIED:20231221T124705Z
UID:10005479-1705345200-1705348800@rsfirstchurch.org
SUMMARY:Disaster Response Meeting
DESCRIPTION:
URL:https://rsfirstchurch.org/event/disaster-response-meeting/
END:VEVENT
END:VCALENDAR