BEGIN:VCALENDAR
VERSION:2.0
PRODID:-//Roaring Spring First Church of the Brethren - ECPv6.11.2.1//NONSGML v1.0//EN
CALSCALE:GREGORIAN
METHOD:PUBLISH
X-WR-CALNAME:Roaring Spring First Church of the Brethren
X-ORIGINAL-URL:https://rsfirstchurch.org
X-WR-CALDESC:Events for Roaring Spring First Church of the Brethren
REFRESH-INTERVAL;VALUE=DURATION:PT1H
X-Robots-Tag:noindex
X-PUBLISHED-TTL:PT1H
BEGIN:VTIMEZONE
TZID:America/New_York
BEGIN:DAYLIGHT
TZOFFSETFROM:-0500
TZOFFSETTO:-0400
TZNAME:EDT
DTSTART:20240310T070000
END:DAYLIGHT
BEGIN:STANDARD
TZOFFSETFROM:-0400
TZOFFSETTO:-0500
TZNAME:EST
DTSTART:20241103T060000
END:STANDARD
END:VTIMEZONE
BEGIN:VEVENT
DTSTART;TZID=America/New_York:20240116T093000
DTEND;TZID=America/New_York:20240116T103000
DTSTAMP:20260422T090848
CREATED:20230119T184415Z
LAST-MODIFIED:20230120T160635Z
UID:10000579-1705397400-1705401000@rsfirstchurch.org
SUMMARY:Bible Study
DESCRIPTION:
URL:https://rsfirstchurch.org/event/bible-study/2024-01-16/
END:VEVENT
BEGIN:VEVENT
DTSTART;TZID=America/New_York:20240116T180000
DTEND;TZID=America/New_York:20240116T190000
DTSTAMP:20260422T090848
CREATED:20231221T124833Z
LAST-MODIFIED:20231221T124833Z
UID:10005481-1705428000-1705431600@rsfirstchurch.org
SUMMARY:Sisters of Faith
DESCRIPTION:
URL:https://rsfirstchurch.org/event/sisters-of-faith-3/
END:VEVENT
END:VCALENDAR