BEGIN:VCALENDAR
VERSION:2.0
PRODID:-//Roaring Spring First Church of the Brethren - ECPv6.11.2.1//NONSGML v1.0//EN
CALSCALE:GREGORIAN
METHOD:PUBLISH
X-ORIGINAL-URL:https://rsfirstchurch.org
X-WR-CALDESC:Events for Roaring Spring First Church of the Brethren
REFRESH-INTERVAL;VALUE=DURATION:PT1H
X-Robots-Tag:noindex
X-PUBLISHED-TTL:PT1H
BEGIN:VTIMEZONE
TZID:America/New_York
BEGIN:DAYLIGHT
TZOFFSETFROM:-0500
TZOFFSETTO:-0400
TZNAME:EDT
DTSTART:20240310T070000
END:DAYLIGHT
BEGIN:STANDARD
TZOFFSETFROM:-0400
TZOFFSETTO:-0500
TZNAME:EST
DTSTART:20241103T060000
END:STANDARD
END:VTIMEZONE
BEGIN:VEVENT
DTSTART;TZID=America/New_York:20240117T090000
DTEND;TZID=America/New_York:20240117T100000
DTSTAMP:20260422T143618
CREATED:20231221T124949Z
LAST-MODIFIED:20231221T124949Z
UID:10005484-1705482000-1705485600@rsfirstchurch.org
SUMMARY:Ladies Aid
DESCRIPTION:
URL:https://rsfirstchurch.org/event/ladies-aid-4/2024-01-17/
END:VEVENT
BEGIN:VEVENT
DTSTART;TZID=America/New_York:20240117T100000
DTEND;TZID=America/New_York:20240117T120000
DTSTAMP:20260422T143618
CREATED:20231221T125338Z
LAST-MODIFIED:20231221T125338Z
UID:10005502-1705485600-1705492800@rsfirstchurch.org
SUMMARY:RS Community Library Quilters
DESCRIPTION:
URL:https://rsfirstchurch.org/event/rs-community-library-quilters/2024-01-17/1/
END:VEVENT
BEGIN:VEVENT
DTSTART;TZID=America/New_York:20240117T130000
DTEND;TZID=America/New_York:20240117T140000
DTSTAMP:20260422T143618
CREATED:20231221T125047Z
LAST-MODIFIED:20231221T125047Z
UID:10005489-1705496400-1705500000@rsfirstchurch.org
SUMMARY:Prayer Shawl Ministry
DESCRIPTION:
URL:https://rsfirstchurch.org/event/prayer-shawl-ministry-4/2024-01-17/
END:VEVENT
BEGIN:VEVENT
DTSTART;TZID=America/New_York:20240117T170000
DTEND;TZID=America/New_York:20240117T183000
DTSTAMP:20260422T143618
CREATED:20231221T125338Z
LAST-MODIFIED:20231221T125338Z
UID:10005503-1705510800-1705516200@rsfirstchurch.org
SUMMARY:RS Community Library Quilters
DESCRIPTION:
URL:https://rsfirstchurch.org/event/rs-community-library-quilters/2024-01-17/2/
END:VEVENT
BEGIN:VEVENT
DTSTART;TZID=America/New_York:20240117T174500
DTEND;TZID=America/New_York:20240117T184500
DTSTAMP:20260422T143618
CREATED:20231221T125141Z
LAST-MODIFIED:20231221T125141Z
UID:10005494-1705513500-1705517100@rsfirstchurch.org
SUMMARY:ReCharge
DESCRIPTION:
URL:https://rsfirstchurch.org/event/recharge-6/2024-01-17/
END:VEVENT
BEGIN:VEVENT
DTSTART;TZID=America/New_York:20240117T183000
DTEND;TZID=America/New_York:20240117T193000
DTSTAMP:20260422T143618
CREATED:20231221T125224Z
LAST-MODIFIED:20231221T125224Z
UID:10005499-1705516200-1705519800@rsfirstchurch.org
SUMMARY:Chancel Choir Practice
DESCRIPTION:
URL:https://rsfirstchurch.org/event/chancel-choir-practice-5/2024-01-17/
END:VEVENT
END:VCALENDAR