BEGIN:VCALENDAR
VERSION:2.0
PRODID:-//Roaring Spring First Church of the Brethren - ECPv6.11.2.1//NONSGML v1.0//EN
CALSCALE:GREGORIAN
METHOD:PUBLISH
X-ORIGINAL-URL:https://rsfirstchurch.org
X-WR-CALDESC:Events for Roaring Spring First Church of the Brethren
REFRESH-INTERVAL;VALUE=DURATION:PT1H
X-Robots-Tag:noindex
X-PUBLISHED-TTL:PT1H
BEGIN:VTIMEZONE
TZID:America/New_York
BEGIN:DAYLIGHT
TZOFFSETFROM:-0500
TZOFFSETTO:-0400
TZNAME:EDT
DTSTART:20240310T070000
END:DAYLIGHT
BEGIN:STANDARD
TZOFFSETFROM:-0400
TZOFFSETTO:-0500
TZNAME:EST
DTSTART:20241103T060000
END:STANDARD
END:VTIMEZONE
BEGIN:VEVENT
DTSTART;TZID=America/New_York:20240228T090000
DTEND;TZID=America/New_York:20240228T100000
DTSTAMP:20260420T091301
CREATED:20240131T165350Z
LAST-MODIFIED:20240131T165350Z
UID:10005526-1709110800-1709114400@rsfirstchurch.org
SUMMARY:Ladies Aid
DESCRIPTION:
URL:https://rsfirstchurch.org/event/ladies-aid-5/2024-02-28/
END:VEVENT
BEGIN:VEVENT
DTSTART;TZID=America/New_York:20240228T130000
DTEND;TZID=America/New_York:20240228T140000
DTSTAMP:20260420T091301
CREATED:20240131T165449Z
LAST-MODIFIED:20240131T165449Z
UID:10005530-1709125200-1709128800@rsfirstchurch.org
SUMMARY:Prayer Shawl Ministry
DESCRIPTION:
URL:https://rsfirstchurch.org/event/prayer-shawl-ministry-5/2024-02-28/
END:VEVENT
BEGIN:VEVENT
DTSTART;TZID=America/New_York:20240228T174500
DTEND;TZID=America/New_York:20240228T184500
DTSTAMP:20260420T091301
CREATED:20240131T165546Z
LAST-MODIFIED:20240131T165546Z
UID:10005534-1709142300-1709145900@rsfirstchurch.org
SUMMARY:ReCharge
DESCRIPTION:
URL:https://rsfirstchurch.org/event/recharge-7/2024-02-28/
END:VEVENT
BEGIN:VEVENT
DTSTART;TZID=America/New_York:20240228T183000
DTEND;TZID=America/New_York:20240228T193000
DTSTAMP:20260420T091301
CREATED:20240131T165652Z
LAST-MODIFIED:20240131T165652Z
UID:10005538-1709145000-1709148600@rsfirstchurch.org
SUMMARY:Chancel Choir Practice
DESCRIPTION:
URL:https://rsfirstchurch.org/event/chancel-choir-practice-6/2024-02-28/
END:VEVENT
END:VCALENDAR