BEGIN:VCALENDAR
VERSION:2.0
PRODID:-//Roaring Spring First Church of the Brethren - ECPv6.11.2.1//NONSGML v1.0//EN
CALSCALE:GREGORIAN
METHOD:PUBLISH
X-ORIGINAL-URL:https://rsfirstchurch.org
X-WR-CALDESC:Events for Roaring Spring First Church of the Brethren
REFRESH-INTERVAL;VALUE=DURATION:PT1H
X-Robots-Tag:noindex
X-PUBLISHED-TTL:PT1H
BEGIN:VTIMEZONE
TZID:America/New_York
BEGIN:DAYLIGHT
TZOFFSETFROM:-0500
TZOFFSETTO:-0400
TZNAME:EDT
DTSTART:20240310T070000
END:DAYLIGHT
BEGIN:STANDARD
TZOFFSETFROM:-0400
TZOFFSETTO:-0500
TZNAME:EST
DTSTART:20241103T060000
END:STANDARD
END:VTIMEZONE
BEGIN:VEVENT
DTSTART;TZID=America/New_York:20241102T090000
DTEND;TZID=America/New_York:20241102T113000
DTSTAMP:20260422T190635
CREATED:20240918T154409Z
LAST-MODIFIED:20240918T154409Z
UID:10008138-1730538000-1730547000@rsfirstchurch.org
SUMMARY:Youth Practice
DESCRIPTION:
URL:https://rsfirstchurch.org/event/youth-practice/
END:VEVENT
BEGIN:VEVENT
DTSTART;TZID=America/New_York:20241102T160000
DTEND;TZID=America/New_York:20241102T190000
DTSTAMP:20260422T190635
CREATED:20240814T143441Z
LAST-MODIFIED:20240910T140630Z
UID:10008040-1730563200-1730574000@rsfirstchurch.org
SUMMARY:BDM Fundraiser Dinner
DESCRIPTION:
URL:https://rsfirstchurch.org/event/bdm-fundraiser-dinner/
END:VEVENT
END:VCALENDAR