BEGIN:VCALENDAR
VERSION:2.0
PRODID:-//Roaring Spring First Church of the Brethren - ECPv6.11.2.1//NONSGML v1.0//EN
CALSCALE:GREGORIAN
METHOD:PUBLISH
X-WR-CALNAME:Roaring Spring First Church of the Brethren
X-ORIGINAL-URL:https://rsfirstchurch.org
X-WR-CALDESC:Events for Roaring Spring First Church of the Brethren
REFRESH-INTERVAL;VALUE=DURATION:PT1H
X-Robots-Tag:noindex
X-PUBLISHED-TTL:PT1H
BEGIN:VTIMEZONE
TZID:America/New_York
BEGIN:DAYLIGHT
TZOFFSETFROM:-0500
TZOFFSETTO:-0400
TZNAME:EDT
DTSTART:20240310T070000
END:DAYLIGHT
BEGIN:STANDARD
TZOFFSETFROM:-0400
TZOFFSETTO:-0500
TZNAME:EST
DTSTART:20241103T060000
END:STANDARD
END:VTIMEZONE
BEGIN:VEVENT
DTSTART;TZID=America/New_York:20241103T080000
DTEND;TZID=America/New_York:20241103T170000
DTSTAMP:20260422T214351
CREATED:20240910T130253Z
LAST-MODIFIED:20240910T130253Z
UID:10008113-1730620800-1730653200@rsfirstchurch.org
SUMMARY:Youth Sunday
DESCRIPTION:
URL:https://rsfirstchurch.org/event/youth-sunday-2/
END:VEVENT
BEGIN:VEVENT
DTSTART;TZID=America/New_York:20241103T092500
DTEND;TZID=America/New_York:20241103T092500
DTSTAMP:20260422T214351
CREATED:20230119T183707Z
LAST-MODIFIED:20240620T140142Z
UID:10000098-1730625900-1730625900@rsfirstchurch.org
SUMMARY:Worship
DESCRIPTION:
URL:https://rsfirstchurch.org/event/worship/2024-11-03/
END:VEVENT
BEGIN:VEVENT
DTSTART;TZID=America/New_York:20241103T103000
DTEND;TZID=America/New_York:20241103T103000
DTSTAMP:20260422T214351
CREATED:20230119T184106Z
LAST-MODIFIED:20260312T122652Z
UID:10000359-1730629800-1730629800@rsfirstchurch.org
SUMMARY:Sunday School
DESCRIPTION:
URL:https://rsfirstchurch.org/event/sunday-school/2024-11-03/
END:VEVENT
BEGIN:VEVENT
DTSTART;TZID=America/New_York:20241103T114500
DTEND;TZID=America/New_York:20241103T114500
DTSTAMP:20260422T214351
CREATED:20240524T134440Z
LAST-MODIFIED:20240524T134440Z
UID:10006724-1730634300-1730634300@rsfirstchurch.org
SUMMARY:Deacon Prayer Gathering
DESCRIPTION:
URL:https://rsfirstchurch.org/event/deacon-prayer-gathering-9/2024-11-03/
END:VEVENT
BEGIN:VEVENT
DTSTART;TZID=America/New_York:20241103T120000
DTEND;TZID=America/New_York:20241103T120000
DTSTAMP:20260422T214351
CREATED:20240620T153400Z
LAST-MODIFIED:20240620T153400Z
UID:10007969-1730635200-1730635200@rsfirstchurch.org
SUMMARY:Older Servants Dinner
DESCRIPTION:
URL:https://rsfirstchurch.org/event/older-servants-dinner-2/
END:VEVENT
BEGIN:VEVENT
DTSTART;TZID=America/New_York:20241103T120000
DTEND;TZID=America/New_York:20241103T170000
DTSTAMP:20260422T214351
CREATED:20240918T154524Z
LAST-MODIFIED:20240918T154524Z
UID:10008139-1730635200-1730653200@rsfirstchurch.org
SUMMARY:Youth activity
DESCRIPTION:
URL:https://rsfirstchurch.org/event/youth-activity/
END:VEVENT
END:VCALENDAR