BEGIN:VCALENDAR
VERSION:2.0
PRODID:-//Roaring Spring First Church of the Brethren - ECPv6.11.2.1//NONSGML v1.0//EN
CALSCALE:GREGORIAN
METHOD:PUBLISH
X-WR-CALNAME:Roaring Spring First Church of the Brethren
X-ORIGINAL-URL:https://rsfirstchurch.org
X-WR-CALDESC:Events for Roaring Spring First Church of the Brethren
REFRESH-INTERVAL;VALUE=DURATION:PT1H
X-Robots-Tag:noindex
X-PUBLISHED-TTL:PT1H
BEGIN:VTIMEZONE
TZID:America/New_York
BEGIN:DAYLIGHT
TZOFFSETFROM:-0500
TZOFFSETTO:-0400
TZNAME:EDT
DTSTART:20240310T070000
END:DAYLIGHT
BEGIN:STANDARD
TZOFFSETFROM:-0400
TZOFFSETTO:-0500
TZNAME:EST
DTSTART:20241103T060000
END:STANDARD
END:VTIMEZONE
BEGIN:VEVENT
DTSTART;TZID=America/New_York:20241106T090000
DTEND;TZID=America/New_York:20241106T090000
DTSTAMP:20260424T105933
CREATED:20240620T133519Z
LAST-MODIFIED:20240620T133519Z
UID:10007591-1730883600-1730883600@rsfirstchurch.org
SUMMARY:Ladies Aid Quilting
DESCRIPTION:
URL:https://rsfirstchurch.org/event/ladies-aid-quilting-2/2024-11-06/
END:VEVENT
BEGIN:VEVENT
DTSTART;TZID=America/New_York:20241106T130000
DTEND;TZID=America/New_York:20241106T130000
DTSTAMP:20260424T105933
CREATED:20240620T133921Z
LAST-MODIFIED:20251118T131449Z
UID:10007639-1730898000-1730898000@rsfirstchurch.org
SUMMARY:Prayer Shawl Ministry
DESCRIPTION:
URL:https://rsfirstchurch.org/event/prayer-shawl-ministry-10/2024-11-06/
END:VEVENT
BEGIN:VEVENT
DTSTART;TZID=America/New_York:20241106T174500
DTEND;TZID=America/New_York:20241106T193000
DTSTAMP:20260424T105933
CREATED:20240910T140922Z
LAST-MODIFIED:20240910T140922Z
UID:10008119-1730915100-1730921400@rsfirstchurch.org
SUMMARY:ReCharge
DESCRIPTION:
URL:https://rsfirstchurch.org/event/recharge/2024-11-06/
END:VEVENT
BEGIN:VEVENT
DTSTART;TZID=America/New_York:20241106T180000
DTEND;TZID=America/New_York:20241106T200000
DTSTAMP:20260424T105933
CREATED:20240918T154615Z
LAST-MODIFIED:20240918T154615Z
UID:10008140-1730916000-1730923200@rsfirstchurch.org
SUMMARY:Youth Service Project
DESCRIPTION:
URL:https://rsfirstchurch.org/event/youth-service-project/
END:VEVENT
BEGIN:VEVENT
DTSTART;TZID=America/New_York:20241106T181500
DTEND;TZID=America/New_York:20241106T181500
DTSTAMP:20260424T105933
CREATED:20240402T154730Z
LAST-MODIFIED:20251118T131605Z
UID:10005741-1730916900-1730916900@rsfirstchurch.org
SUMMARY:Virtual Bible Study
DESCRIPTION:
URL:https://rsfirstchurch.org/event/virtual-bible-study-2/2024-11-06/
END:VEVENT
BEGIN:VEVENT
DTSTART;TZID=America/New_York:20241106T183000
DTEND;TZID=America/New_York:20241106T183000
DTSTAMP:20260424T105933
CREATED:20240612T140703Z
LAST-MODIFIED:20240612T140703Z
UID:10006776-1730917800-1730917800@rsfirstchurch.org
SUMMARY:Chancel Choir
DESCRIPTION:
URL:https://rsfirstchurch.org/event/chancel-choir/2024-11-06/
END:VEVENT
END:VCALENDAR