BEGIN:VCALENDAR
VERSION:2.0
PRODID:-//Roaring Spring First Church of the Brethren - ECPv6.11.2.1//NONSGML v1.0//EN
CALSCALE:GREGORIAN
METHOD:PUBLISH
X-ORIGINAL-URL:https://rsfirstchurch.org
X-WR-CALDESC:Events for Roaring Spring First Church of the Brethren
REFRESH-INTERVAL;VALUE=DURATION:PT1H
X-Robots-Tag:noindex
X-PUBLISHED-TTL:PT1H
BEGIN:VTIMEZONE
TZID:America/New_York
BEGIN:DAYLIGHT
TZOFFSETFROM:-0500
TZOFFSETTO:-0400
TZNAME:EDT
DTSTART:20240310T070000
END:DAYLIGHT
BEGIN:STANDARD
TZOFFSETFROM:-0400
TZOFFSETTO:-0500
TZNAME:EST
DTSTART:20241103T060000
END:STANDARD
END:VTIMEZONE
BEGIN:VEVENT
DTSTART;VALUE=DATE:20241128
DTEND;VALUE=DATE:20241129
DTSTAMP:20260422T174646
CREATED:20240620T150610Z
LAST-MODIFIED:20240620T150610Z
UID:10007954-1732752000-1732838399@rsfirstchurch.org
SUMMARY:Office Closed
DESCRIPTION:
URL:https://rsfirstchurch.org/event/office-closed-23/
END:VEVENT
BEGIN:VEVENT
DTSTART;TZID=America/New_York:20241128T090000
DTEND;TZID=America/New_York:20241128T090000
DTSTAMP:20260422T174646
CREATED:20240620T123934Z
LAST-MODIFIED:20251118T133941Z
UID:10006827-1732784400-1732784400@rsfirstchurch.org
SUMMARY:Bulletin Submission Deadline
DESCRIPTION:
URL:https://rsfirstchurch.org/event/bulletin-submission-deadline/2024-11-28/
END:VEVENT
BEGIN:VEVENT
DTSTART;TZID=America/New_York:20241128T090000
DTEND;TZID=America/New_York:20241128T090000
DTSTAMP:20260422T174646
CREATED:20240807T140741Z
LAST-MODIFIED:20260204T165958Z
UID:10001929-1732784400-1732784400@rsfirstchurch.org
SUMMARY:Breakfast Fellowship
DESCRIPTION:
URL:https://rsfirstchurch.org/event/breakfast-fellowship-at-spring-house-grille-2/2024-11-28/
END:VEVENT
BEGIN:VEVENT
DTSTART;TZID=America/New_York:20241128T183000
DTEND;TZID=America/New_York:20241128T203000
DTSTAMP:20260422T174646
CREATED:20240620T124445Z
LAST-MODIFIED:20240620T124445Z
UID:10007086-1732818600-1732825800@rsfirstchurch.org
SUMMARY:Knitting Group in Parlor
DESCRIPTION:
URL:https://rsfirstchurch.org/event/knitting-group-in-parlor-8/2024-11-28/
END:VEVENT
END:VCALENDAR