BEGIN:VCALENDAR
VERSION:2.0
PRODID:-//Roaring Spring First Church of the Brethren - ECPv6.11.2.1//NONSGML v1.0//EN
CALSCALE:GREGORIAN
METHOD:PUBLISH
X-ORIGINAL-URL:https://rsfirstchurch.org
X-WR-CALDESC:Events for Roaring Spring First Church of the Brethren
REFRESH-INTERVAL;VALUE=DURATION:PT1H
X-Robots-Tag:noindex
X-PUBLISHED-TTL:PT1H
BEGIN:VTIMEZONE
TZID:America/New_York
BEGIN:DAYLIGHT
TZOFFSETFROM:-0500
TZOFFSETTO:-0400
TZNAME:EDT
DTSTART:20250309T070000
END:DAYLIGHT
BEGIN:STANDARD
TZOFFSETFROM:-0400
TZOFFSETTO:-0500
TZNAME:EST
DTSTART:20251102T060000
END:STANDARD
END:VTIMEZONE
BEGIN:VEVENT
DTSTART;TZID=America/New_York:20250115T090000
DTEND;TZID=America/New_York:20250115T090000
DTSTAMP:20260421T174314
CREATED:20240620T133519Z
LAST-MODIFIED:20240620T133519Z
UID:10007601-1736931600-1736931600@rsfirstchurch.org
SUMMARY:Ladies Aid Quilting
DESCRIPTION:
URL:https://rsfirstchurch.org/event/ladies-aid-quilting-2/2025-01-15/
END:VEVENT
BEGIN:VEVENT
DTSTART;TZID=America/New_York:20250115T130000
DTEND;TZID=America/New_York:20250115T130000
DTSTAMP:20260421T174314
CREATED:20240329T151242Z
LAST-MODIFIED:20240403T145534Z
UID:10006038-1736946000-1736946000@rsfirstchurch.org
SUMMARY:Newsletter Submission Deadline
DESCRIPTION:
URL:https://rsfirstchurch.org/event/newsletter-submission-deadline-3/2025-01-15/
END:VEVENT
BEGIN:VEVENT
DTSTART;TZID=America/New_York:20250115T130000
DTEND;TZID=America/New_York:20250115T130000
DTSTAMP:20260421T174314
CREATED:20240620T133921Z
LAST-MODIFIED:20251118T131449Z
UID:10007649-1736946000-1736946000@rsfirstchurch.org
SUMMARY:Prayer Shawl Ministry
DESCRIPTION:
URL:https://rsfirstchurch.org/event/prayer-shawl-ministry-10/2025-01-15/
END:VEVENT
BEGIN:VEVENT
DTSTART;TZID=America/New_York:20250115T174500
DTEND;TZID=America/New_York:20250115T193000
DTSTAMP:20260421T174314
CREATED:20240910T141255Z
LAST-MODIFIED:20240910T141255Z
UID:10008126-1736963100-1736969400@rsfirstchurch.org
SUMMARY:ReCharge
DESCRIPTION:
URL:https://rsfirstchurch.org/event/recharge-9/2025-01-15/
END:VEVENT
BEGIN:VEVENT
DTSTART;TZID=America/New_York:20250115T181500
DTEND;TZID=America/New_York:20250115T181500
DTSTAMP:20260421T174314
CREATED:20240402T154730Z
LAST-MODIFIED:20251118T131605Z
UID:10005751-1736964900-1736964900@rsfirstchurch.org
SUMMARY:Virtual Bible Study
DESCRIPTION:
URL:https://rsfirstchurch.org/event/virtual-bible-study-2/2025-01-15/
END:VEVENT
BEGIN:VEVENT
DTSTART;TZID=America/New_York:20250115T183000
DTEND;TZID=America/New_York:20250115T183000
DTSTAMP:20260421T174314
CREATED:20240612T140703Z
LAST-MODIFIED:20240612T140703Z
UID:10006786-1736965800-1736965800@rsfirstchurch.org
SUMMARY:Chancel Choir
DESCRIPTION:
URL:https://rsfirstchurch.org/event/chancel-choir/2025-01-15/
END:VEVENT
END:VCALENDAR