BEGIN:VCALENDAR
VERSION:2.0
PRODID:-//Roaring Spring First Church of the Brethren - ECPv6.11.2.1//NONSGML v1.0//EN
CALSCALE:GREGORIAN
METHOD:PUBLISH
X-ORIGINAL-URL:https://rsfirstchurch.org
X-WR-CALDESC:Events for Roaring Spring First Church of the Brethren
REFRESH-INTERVAL;VALUE=DURATION:PT1H
X-Robots-Tag:noindex
X-PUBLISHED-TTL:PT1H
BEGIN:VTIMEZONE
TZID:America/New_York
BEGIN:DAYLIGHT
TZOFFSETFROM:-0500
TZOFFSETTO:-0400
TZNAME:EDT
DTSTART:20250309T070000
END:DAYLIGHT
BEGIN:STANDARD
TZOFFSETFROM:-0400
TZOFFSETTO:-0500
TZNAME:EST
DTSTART:20251102T060000
END:STANDARD
END:VTIMEZONE
BEGIN:VEVENT
DTSTART;VALUE=DATE:20250209
DTEND;VALUE=DATE:20250210
DTSTAMP:20260424T151611
CREATED:20230119T190600Z
LAST-MODIFIED:20230119T190600Z
UID:10002819-1739059200-1739145599@rsfirstchurch.org
SUMMARY:Food Bank Collection
DESCRIPTION:
URL:https://rsfirstchurch.org/event/food-bank-collection/2025-02-09/
END:VEVENT
BEGIN:VEVENT
DTSTART;VALUE=DATE:20250209
DTEND;VALUE=DATE:20250210
DTSTAMP:20260424T151611
CREATED:20250115T144031Z
LAST-MODIFIED:20250115T144031Z
UID:10008468-1739059200-1739145599@rsfirstchurch.org
SUMMARY:Souper Bowl Sunday
DESCRIPTION:
URL:https://rsfirstchurch.org/event/souper-bowl-sunday/
END:VEVENT
BEGIN:VEVENT
DTSTART;TZID=America/New_York:20250209T092500
DTEND;TZID=America/New_York:20250209T092500
DTSTAMP:20260424T151611
CREATED:20230119T183707Z
LAST-MODIFIED:20240620T140142Z
UID:10000112-1739093100-1739093100@rsfirstchurch.org
SUMMARY:Worship
DESCRIPTION:
URL:https://rsfirstchurch.org/event/worship/2025-02-09/
END:VEVENT
BEGIN:VEVENT
DTSTART;TZID=America/New_York:20250209T103000
DTEND;TZID=America/New_York:20250209T103000
DTSTAMP:20260424T151611
CREATED:20240620T151131Z
LAST-MODIFIED:20240620T151131Z
UID:10007962-1739097000-1739097000@rsfirstchurch.org
SUMMARY:Fellowship Time
DESCRIPTION:
URL:https://rsfirstchurch.org/event/fellowship-time-6/2025-02-09/
END:VEVENT
BEGIN:VEVENT
DTSTART;TZID=America/New_York:20250209T110000
DTEND;TZID=America/New_York:20250209T110000
DTSTAMP:20260424T151611
CREATED:20240910T125115Z
LAST-MODIFIED:20251118T132249Z
UID:10008094-1739098800-1739098800@rsfirstchurch.org
SUMMARY:Sunday School
DESCRIPTION:
URL:https://rsfirstchurch.org/event/sunday-school-2/2025-02-09/
END:VEVENT
BEGIN:VEVENT
DTSTART;TZID=America/New_York:20250209T150000
DTEND;TZID=America/New_York:20250209T170000
DTSTAMP:20260424T151611
CREATED:20250113T142224Z
LAST-MODIFIED:20250113T142418Z
UID:10008288-1739113200-1739120400@rsfirstchurch.org
SUMMARY:Jr Youth Activity
DESCRIPTION:
URL:https://rsfirstchurch.org/event/youth-activity-2-2/
END:VEVENT
END:VCALENDAR