BEGIN:VCALENDAR
VERSION:2.0
PRODID:-//Roaring Spring First Church of the Brethren - ECPv6.11.2.1//NONSGML v1.0//EN
CALSCALE:GREGORIAN
METHOD:PUBLISH
X-WR-CALNAME:Roaring Spring First Church of the Brethren
X-ORIGINAL-URL:https://rsfirstchurch.org
X-WR-CALDESC:Events for Roaring Spring First Church of the Brethren
REFRESH-INTERVAL;VALUE=DURATION:PT1H
X-Robots-Tag:noindex
X-PUBLISHED-TTL:PT1H
BEGIN:VTIMEZONE
TZID:America/New_York
BEGIN:DAYLIGHT
TZOFFSETFROM:-0500
TZOFFSETTO:-0400
TZNAME:EDT
DTSTART:20250309T070000
END:DAYLIGHT
BEGIN:STANDARD
TZOFFSETFROM:-0400
TZOFFSETTO:-0500
TZNAME:EST
DTSTART:20251102T060000
END:STANDARD
END:VTIMEZONE
BEGIN:VEVENT
DTSTART;TZID=America/New_York:20250330T092500
DTEND;TZID=America/New_York:20250330T092500
DTSTAMP:20260425T160914
CREATED:20230119T183707Z
LAST-MODIFIED:20240620T140142Z
UID:10000119-1743326700-1743326700@rsfirstchurch.org
SUMMARY:Worship
DESCRIPTION:
URL:https://rsfirstchurch.org/event/worship/2025-03-30/
END:VEVENT
BEGIN:VEVENT
DTSTART;TZID=America/New_York:20250330T103000
DTEND;TZID=America/New_York:20250330T103000
DTSTAMP:20260425T160914
CREATED:20230119T184106Z
LAST-MODIFIED:20260312T122652Z
UID:10000380-1743330600-1743330600@rsfirstchurch.org
SUMMARY:Sunday School
DESCRIPTION:
URL:https://rsfirstchurch.org/event/sunday-school/2025-03-30/
END:VEVENT
BEGIN:VEVENT
DTSTART;TZID=America/New_York:20250330T114500
DTEND;TZID=America/New_York:20250330T124500
DTSTAMP:20260425T160914
CREATED:20230120T154511Z
LAST-MODIFIED:20251027T154216Z
UID:10004164-1743335100-1743338700@rsfirstchurch.org
SUMMARY:5th Sunday Fellowship Meal
DESCRIPTION:
URL:https://rsfirstchurch.org/event/5th-sunday-fellowship-meal-4/2025-03-30/
END:VEVENT
BEGIN:VEVENT
DTSTART;TZID=America/New_York:20250330T120000
DTEND;TZID=America/New_York:20250330T120000
DTSTAMP:20260425T160914
CREATED:20241205T150534Z
LAST-MODIFIED:20250925T154907Z
UID:10008378-1743336000-1743336000@rsfirstchurch.org
SUMMARY:5th Sunday Fellowship Meal
DESCRIPTION:
URL:https://rsfirstchurch.org/event/5th-sunday-fellowship-meal-6/
END:VEVENT
BEGIN:VEVENT
DTSTART;TZID=America/New_York:20250330T180000
DTEND;TZID=America/New_York:20250330T180000
DTSTAMP:20260425T160914
CREATED:20250306T131710Z
LAST-MODIFIED:20250306T131710Z
UID:10008501-1743357600-1743357600@rsfirstchurch.org
SUMMARY:Contemporary Christian worship Gathering
DESCRIPTION:
URL:https://rsfirstchurch.org/event/contemporary-christian-worship-gathering/
END:VEVENT
END:VCALENDAR