BEGIN:VCALENDAR
VERSION:2.0
PRODID:-//Roaring Spring First Church of the Brethren - ECPv6.11.2.1//NONSGML v1.0//EN
CALSCALE:GREGORIAN
METHOD:PUBLISH
X-ORIGINAL-URL:https://rsfirstchurch.org
X-WR-CALDESC:Events for Roaring Spring First Church of the Brethren
REFRESH-INTERVAL;VALUE=DURATION:PT1H
X-Robots-Tag:noindex
X-PUBLISHED-TTL:PT1H
BEGIN:VTIMEZONE
TZID:America/New_York
BEGIN:DAYLIGHT
TZOFFSETFROM:-0500
TZOFFSETTO:-0400
TZNAME:EDT
DTSTART:20250309T070000
END:DAYLIGHT
BEGIN:STANDARD
TZOFFSETFROM:-0400
TZOFFSETTO:-0500
TZNAME:EST
DTSTART:20251102T060000
END:STANDARD
END:VTIMEZONE
BEGIN:VEVENT
DTSTART;TZID=America/New_York:20250625T090000
DTEND;TZID=America/New_York:20250625T090000
DTSTAMP:20260419T230552
CREATED:20240620T133519Z
LAST-MODIFIED:20240620T133519Z
UID:10007624-1750842000-1750842000@rsfirstchurch.org
SUMMARY:Ladies Aid Quilting
DESCRIPTION:
URL:https://rsfirstchurch.org/event/ladies-aid-quilting-2/2025-06-25/
END:VEVENT
BEGIN:VEVENT
DTSTART;TZID=America/New_York:20250625T130000
DTEND;TZID=America/New_York:20250625T130000
DTSTAMP:20260419T230552
CREATED:20240620T133921Z
LAST-MODIFIED:20251118T131449Z
UID:10007672-1750856400-1750856400@rsfirstchurch.org
SUMMARY:Prayer Shawl Ministry
DESCRIPTION:
URL:https://rsfirstchurch.org/event/prayer-shawl-ministry-10/2025-06-25/
END:VEVENT
BEGIN:VEVENT
DTSTART;TZID=America/New_York:20250625T181500
DTEND;TZID=America/New_York:20250625T181500
DTSTAMP:20260419T230552
CREATED:20240402T154730Z
LAST-MODIFIED:20251118T131605Z
UID:10005774-1750875300-1750875300@rsfirstchurch.org
SUMMARY:Virtual Bible Study
DESCRIPTION:
URL:https://rsfirstchurch.org/event/virtual-bible-study-2/2025-06-25/
END:VEVENT
END:VCALENDAR