BEGIN:VCALENDAR
VERSION:2.0
PRODID:-//Roaring Spring First Church of the Brethren - ECPv6.11.2.1//NONSGML v1.0//EN
CALSCALE:GREGORIAN
METHOD:PUBLISH
X-WR-CALNAME:Roaring Spring First Church of the Brethren
X-ORIGINAL-URL:https://rsfirstchurch.org
X-WR-CALDESC:Events for Roaring Spring First Church of the Brethren
REFRESH-INTERVAL;VALUE=DURATION:PT1H
X-Robots-Tag:noindex
X-PUBLISHED-TTL:PT1H
BEGIN:VTIMEZONE
TZID:America/New_York
BEGIN:DAYLIGHT
TZOFFSETFROM:-0500
TZOFFSETTO:-0400
TZNAME:EDT
DTSTART:20250309T070000
END:DAYLIGHT
BEGIN:STANDARD
TZOFFSETFROM:-0400
TZOFFSETTO:-0500
TZNAME:EST
DTSTART:20251102T060000
END:STANDARD
END:VTIMEZONE
BEGIN:VEVENT
DTSTART;TZID=America/New_York:20250729T093000
DTEND;TZID=America/New_York:20250729T093000
DTSTAMP:20260424T151431
CREATED:20240620T133215Z
LAST-MODIFIED:20240620T133215Z
UID:10007378-1753781400-1753781400@rsfirstchurch.org
SUMMARY:Bible Study
DESCRIPTION:
URL:https://rsfirstchurch.org/event/bible-study-6/2025-07-29/
END:VEVENT
BEGIN:VEVENT
DTSTART;TZID=America/New_York:20250729T110000
DTEND;TZID=America/New_York:20250729T110000
DTSTAMP:20260424T151431
CREATED:20250724T150933Z
LAST-MODIFIED:20250724T151148Z
UID:10008935-1753786800-1753786800@rsfirstchurch.org
SUMMARY:Funeral Service
DESCRIPTION:
URL:https://rsfirstchurch.org/event/funeral-service-2/
END:VEVENT
BEGIN:VEVENT
DTSTART;TZID=America/New_York:20250729T180000
DTEND;TZID=America/New_York:20250729T203000
DTSTAMP:20260424T151431
CREATED:20250509T140306Z
LAST-MODIFIED:20250509T140306Z
UID:10008911-1753812000-1753821000@rsfirstchurch.org
SUMMARY:Vacation Bible School
DESCRIPTION:
URL:https://rsfirstchurch.org/event/vacation-bible-school-3/
END:VEVENT
END:VCALENDAR