BEGIN:VCALENDAR
VERSION:2.0
PRODID:-//Roaring Spring First Church of the Brethren - ECPv6.11.2.1//NONSGML v1.0//EN
CALSCALE:GREGORIAN
METHOD:PUBLISH
X-ORIGINAL-URL:https://rsfirstchurch.org
X-WR-CALDESC:Events for Roaring Spring First Church of the Brethren
REFRESH-INTERVAL;VALUE=DURATION:PT1H
X-Robots-Tag:noindex
X-PUBLISHED-TTL:PT1H
BEGIN:VTIMEZONE
TZID:America/New_York
BEGIN:DAYLIGHT
TZOFFSETFROM:-0500
TZOFFSETTO:-0400
TZNAME:EDT
DTSTART:20250309T070000
END:DAYLIGHT
BEGIN:STANDARD
TZOFFSETFROM:-0400
TZOFFSETTO:-0500
TZNAME:EST
DTSTART:20251102T060000
END:STANDARD
END:VTIMEZONE
BEGIN:VEVENT
DTSTART;TZID=America/New_York:20250919T173000
DTEND;TZID=America/New_York:20250919T190000
DTSTAMP:20260423T031754
CREATED:20240809T164943Z
LAST-MODIFIED:20250801T142224Z
UID:10009018-1758303000-1758308400@rsfirstchurch.org
SUMMARY:Parking Lot Fundraiser
DESCRIPTION:
URL:https://rsfirstchurch.org/event/parking-lot-fundraiser-3/2025-09-19/
END:VEVENT
BEGIN:VEVENT
DTSTART;TZID=America/New_York:20250919T210000
DTEND;TZID=America/New_York:20250919T230000
DTSTAMP:20260423T031754
CREATED:20240809T160331Z
LAST-MODIFIED:20250801T140045Z
UID:10008949-1758315600-1758322800@rsfirstchurch.org
SUMMARY:5th Quarter
DESCRIPTION:
URL:https://rsfirstchurch.org/event/5th-quarter-4/2025-09-19/
END:VEVENT
END:VCALENDAR