BEGIN:VCALENDAR
VERSION:2.0
PRODID:-//Roaring Spring First Church of the Brethren - ECPv6.11.2.1//NONSGML v1.0//EN
CALSCALE:GREGORIAN
METHOD:PUBLISH
X-WR-CALNAME:Roaring Spring First Church of the Brethren
X-ORIGINAL-URL:https://rsfirstchurch.org
X-WR-CALDESC:Events for Roaring Spring First Church of the Brethren
REFRESH-INTERVAL;VALUE=DURATION:PT1H
X-Robots-Tag:noindex
X-PUBLISHED-TTL:PT1H
BEGIN:VTIMEZONE
TZID:America/New_York
BEGIN:DAYLIGHT
TZOFFSETFROM:-0500
TZOFFSETTO:-0400
TZNAME:EDT
DTSTART:20250309T070000
END:DAYLIGHT
BEGIN:STANDARD
TZOFFSETFROM:-0400
TZOFFSETTO:-0500
TZNAME:EST
DTSTART:20251102T060000
END:STANDARD
END:VTIMEZONE
BEGIN:VEVENT
DTSTART;TZID=America/New_York:20250928T092500
DTEND;TZID=America/New_York:20250928T092500
DTSTAMP:20260424T110118
CREATED:20230119T183707Z
LAST-MODIFIED:20240620T140142Z
UID:10000145-1759051500-1759051500@rsfirstchurch.org
SUMMARY:Worship
DESCRIPTION:
URL:https://rsfirstchurch.org/event/worship/2025-09-28/
END:VEVENT
BEGIN:VEVENT
DTSTART;TZID=America/New_York:20250928T103000
DTEND;TZID=America/New_York:20250928T103000
DTSTAMP:20260424T110118
CREATED:20230119T184106Z
LAST-MODIFIED:20260312T122652Z
UID:10000406-1759055400-1759055400@rsfirstchurch.org
SUMMARY:Sunday School
DESCRIPTION:
URL:https://rsfirstchurch.org/event/sunday-school/2025-09-28/
END:VEVENT
BEGIN:VEVENT
DTSTART;TZID=America/New_York:20250928T113000
DTEND;TZID=America/New_York:20250928T113000
DTSTAMP:20260424T110118
CREATED:20250821T162256Z
LAST-MODIFIED:20250827T160229Z
UID:10009113-1759059000-1759059000@rsfirstchurch.org
SUMMARY:Women's Fellowship Welcome Back Meal
DESCRIPTION:
URL:https://rsfirstchurch.org/event/womens-fellowship-welcome-back-meal/
END:VEVENT
BEGIN:VEVENT
DTSTART;TZID=America/New_York:20250928T113000
DTEND;TZID=America/New_York:20250928T123000
DTSTAMP:20260424T110118
CREATED:20250827T155617Z
LAST-MODIFIED:20250827T155617Z
UID:10009116-1759059000-1759062600@rsfirstchurch.org
SUMMARY:2026 Youth Conference Meeting
DESCRIPTION:
URL:https://rsfirstchurch.org/event/2026-youth-conference-meeting/
END:VEVENT
BEGIN:VEVENT
DTSTART;TZID=America/New_York:20250928T160000
DTEND;TZID=America/New_York:20250928T180000
DTSTAMP:20260424T110118
CREATED:20250827T155458Z
LAST-MODIFIED:20250827T155458Z
UID:10009115-1759075200-1759082400@rsfirstchurch.org
SUMMARY:Good Grief Reunion @ Maddie Cakes
DESCRIPTION:
URL:https://rsfirstchurch.org/event/good-grief-reunion-maddie-cakes/
END:VEVENT
END:VCALENDAR