BEGIN:VCALENDAR
VERSION:2.0
PRODID:-//Roaring Spring First Church of the Brethren - ECPv6.11.2.1//NONSGML v1.0//EN
CALSCALE:GREGORIAN
METHOD:PUBLISH
X-ORIGINAL-URL:https://rsfirstchurch.org
X-WR-CALDESC:Events for Roaring Spring First Church of the Brethren
REFRESH-INTERVAL;VALUE=DURATION:PT1H
X-Robots-Tag:noindex
X-PUBLISHED-TTL:PT1H
BEGIN:VTIMEZONE
TZID:America/New_York
BEGIN:DAYLIGHT
TZOFFSETFROM:-0500
TZOFFSETTO:-0400
TZNAME:EDT
DTSTART:20250309T070000
END:DAYLIGHT
BEGIN:STANDARD
TZOFFSETFROM:-0400
TZOFFSETTO:-0500
TZNAME:EST
DTSTART:20251102T060000
END:STANDARD
END:VTIMEZONE
BEGIN:VEVENT
DTSTART;TZID=America/New_York:20251203T090000
DTEND;TZID=America/New_York:20251203T230000
DTSTAMP:20260423T033745
CREATED:20250724T151829Z
LAST-MODIFIED:20260109T140504Z
UID:10009643-1764752400-1764802800@rsfirstchurch.org
SUMMARY:Quilting
DESCRIPTION:
URL:https://rsfirstchurch.org/event/quilting/2025-12-03/
END:VEVENT
BEGIN:VEVENT
DTSTART;TZID=America/New_York:20251203T130000
DTEND;TZID=America/New_York:20251203T130000
DTSTAMP:20260423T033745
CREATED:20240620T133921Z
LAST-MODIFIED:20251118T131449Z
UID:10007695-1764766800-1764766800@rsfirstchurch.org
SUMMARY:Prayer Shawl Ministry
DESCRIPTION:
URL:https://rsfirstchurch.org/event/prayer-shawl-ministry-10/2025-12-03/
END:VEVENT
BEGIN:VEVENT
DTSTART;TZID=America/New_York:20251203T170000
DTEND;TZID=America/New_York:20251203T200000
DTSTAMP:20260423T033745
CREATED:20251027T150547Z
LAST-MODIFIED:20251027T150547Z
UID:10009280-1764781200-1764792000@rsfirstchurch.org
SUMMARY:MUMs (Mothers Uplifting Mothers) Tree Painting
DESCRIPTION:At Playtime Pottery
URL:https://rsfirstchurch.org/event/mums-mothers-uplifting-mothers-tree-painting/
END:VEVENT
BEGIN:VEVENT
DTSTART;TZID=America/New_York:20251203T174500
DTEND;TZID=America/New_York:20251203T174500
DTSTAMP:20260423T033745
CREATED:20250926T145240Z
LAST-MODIFIED:20250926T145437Z
UID:10009177-1764783900-1764783900@rsfirstchurch.org
SUMMARY:ReCharge
DESCRIPTION:
URL:https://rsfirstchurch.org/event/recharge-10/2025-12-03/
END:VEVENT
BEGIN:VEVENT
DTSTART;TZID=America/New_York:20251203T181500
DTEND;TZID=America/New_York:20251203T181500
DTSTAMP:20260423T033745
CREATED:20240402T154730Z
LAST-MODIFIED:20251118T131605Z
UID:10005797-1764785700-1764785700@rsfirstchurch.org
SUMMARY:Virtual Bible Study
DESCRIPTION:
URL:https://rsfirstchurch.org/event/virtual-bible-study-2/2025-12-03/
END:VEVENT
BEGIN:VEVENT
DTSTART;TZID=America/New_York:20251203T183000
DTEND;TZID=America/New_York:20251203T193000
DTSTAMP:20260423T033745
CREATED:20250926T142831Z
LAST-MODIFIED:20250926T142831Z
UID:10009118-1764786600-1764790200@rsfirstchurch.org
SUMMARY:Chancel Choir Practice
DESCRIPTION:
URL:https://rsfirstchurch.org/event/chancel-choir-practice-9/2025-12-03/
END:VEVENT
END:VCALENDAR