BEGIN:VCALENDAR
VERSION:2.0
PRODID:-//Roaring Spring First Church of the Brethren - ECPv6.11.2.1//NONSGML v1.0//EN
CALSCALE:GREGORIAN
METHOD:PUBLISH
X-WR-CALNAME:Roaring Spring First Church of the Brethren
X-ORIGINAL-URL:https://rsfirstchurch.org
X-WR-CALDESC:Events for Roaring Spring First Church of the Brethren
REFRESH-INTERVAL;VALUE=DURATION:PT1H
X-Robots-Tag:noindex
X-PUBLISHED-TTL:PT1H
BEGIN:VTIMEZONE
TZID:America/New_York
BEGIN:DAYLIGHT
TZOFFSETFROM:-0500
TZOFFSETTO:-0400
TZNAME:EDT
DTSTART:20250309T070000
END:DAYLIGHT
BEGIN:STANDARD
TZOFFSETFROM:-0400
TZOFFSETTO:-0500
TZNAME:EST
DTSTART:20251102T060000
END:STANDARD
END:VTIMEZONE
BEGIN:VEVENT
DTSTART;TZID=America/New_York:20251005T092500
DTEND;TZID=America/New_York:20251005T092500
DTSTAMP:20260423T040254
CREATED:20230119T183707Z
LAST-MODIFIED:20240620T140142Z
UID:10000146-1759656300-1759656300@rsfirstchurch.org
SUMMARY:Worship
DESCRIPTION:
URL:https://rsfirstchurch.org/event/worship/2025-10-05/
END:VEVENT
BEGIN:VEVENT
DTSTART;TZID=America/New_York:20251005T103000
DTEND;TZID=America/New_York:20251005T103000
DTSTAMP:20260423T040254
CREATED:20230119T184106Z
LAST-MODIFIED:20260312T122652Z
UID:10000407-1759660200-1759660200@rsfirstchurch.org
SUMMARY:Sunday School
DESCRIPTION:
URL:https://rsfirstchurch.org/event/sunday-school/2025-10-05/
END:VEVENT
BEGIN:VEVENT
DTSTART;TZID=America/New_York:20251007T093000
DTEND;TZID=America/New_York:20251007T093000
DTSTAMP:20260423T040254
CREATED:20240620T133215Z
LAST-MODIFIED:20240620T133215Z
UID:10007388-1759829400-1759829400@rsfirstchurch.org
SUMMARY:Bible Study
DESCRIPTION:
URL:https://rsfirstchurch.org/event/bible-study-6/2025-10-07/
END:VEVENT
BEGIN:VEVENT
DTSTART;TZID=America/New_York:20251007T180000
DTEND;TZID=America/New_York:20251007T180000
DTSTAMP:20260423T040254
CREATED:20240329T151611Z
LAST-MODIFIED:20240605T121321Z
UID:10006224-1759860000-1759860000@rsfirstchurch.org
SUMMARY:Leadership Meeting
DESCRIPTION:
URL:https://rsfirstchurch.org/event/leadership-meeting-12/2025-10-07/
END:VEVENT
BEGIN:VEVENT
DTSTART;TZID=America/New_York:20251008T130000
DTEND;TZID=America/New_York:20251008T130000
DTSTAMP:20260423T040254
CREATED:20240620T133921Z
LAST-MODIFIED:20251118T131449Z
UID:10007687-1759928400-1759928400@rsfirstchurch.org
SUMMARY:Prayer Shawl Ministry
DESCRIPTION:
URL:https://rsfirstchurch.org/event/prayer-shawl-ministry-10/2025-10-08/
END:VEVENT
BEGIN:VEVENT
DTSTART;TZID=America/New_York:20251008T174500
DTEND;TZID=America/New_York:20251008T174500
DTSTAMP:20260423T040254
CREATED:20250926T145240Z
LAST-MODIFIED:20250926T145437Z
UID:10009170-1759945500-1759945500@rsfirstchurch.org
SUMMARY:ReCharge
DESCRIPTION:
URL:https://rsfirstchurch.org/event/recharge-10/2025-10-08/
END:VEVENT
BEGIN:VEVENT
DTSTART;TZID=America/New_York:20251008T181500
DTEND;TZID=America/New_York:20251008T181500
DTSTAMP:20260423T040254
CREATED:20240402T154730Z
LAST-MODIFIED:20251118T131605Z
UID:10005789-1759947300-1759947300@rsfirstchurch.org
SUMMARY:Virtual Bible Study
DESCRIPTION:
URL:https://rsfirstchurch.org/event/virtual-bible-study-2/2025-10-08/
END:VEVENT
BEGIN:VEVENT
DTSTART;TZID=America/New_York:20251008T183000
DTEND;TZID=America/New_York:20251008T183000
DTSTAMP:20260423T040254
CREATED:20250722T160010Z
LAST-MODIFIED:20250801T142944Z
UID:10008927-1759948200-1759948200@rsfirstchurch.org
SUMMARY:Chancel Choir
DESCRIPTION:
URL:https://rsfirstchurch.org/event/chancel-choir-2/2025-10-08/
END:VEVENT
BEGIN:VEVENT
DTSTART;TZID=America/New_York:20251009T090000
DTEND;TZID=America/New_York:20251009T090000
DTSTAMP:20260423T040254
CREATED:20240620T123934Z
LAST-MODIFIED:20251118T133941Z
UID:10006872-1760000400-1760000400@rsfirstchurch.org
SUMMARY:Bulletin Submission Deadline
DESCRIPTION:
URL:https://rsfirstchurch.org/event/bulletin-submission-deadline/2025-10-09/
END:VEVENT
BEGIN:VEVENT
DTSTART;TZID=America/New_York:20251009T090000
DTEND;TZID=America/New_York:20251009T090000
DTSTAMP:20260423T040254
CREATED:20240807T140741Z
LAST-MODIFIED:20260204T165958Z
UID:10001974-1760000400-1760000400@rsfirstchurch.org
SUMMARY:Breakfast Fellowship
DESCRIPTION:
URL:https://rsfirstchurch.org/event/breakfast-fellowship-at-spring-house-grille-2/2025-10-09/
END:VEVENT
BEGIN:VEVENT
DTSTART;TZID=America/New_York:20251009T183000
DTEND;TZID=America/New_York:20251009T203000
DTSTAMP:20260423T040254
CREATED:20250801T140301Z
LAST-MODIFIED:20251118T131930Z
UID:10007131-1760034600-1760041800@rsfirstchurch.org
SUMMARY:Knitting Group in Parlor
DESCRIPTION:
URL:https://rsfirstchurch.org/event/knitting-group-in-parlor-8-2/2025-10-09/
END:VEVENT
BEGIN:VEVENT
DTSTART;VALUE=DATE:20251012
DTEND;VALUE=DATE:20251013
DTSTAMP:20260423T040254
CREATED:20230119T190600Z
LAST-MODIFIED:20230119T190600Z
UID:10002827-1760227200-1760313599@rsfirstchurch.org
SUMMARY:Food Bank Collection
DESCRIPTION:
URL:https://rsfirstchurch.org/event/food-bank-collection/2025-10-12/
END:VEVENT
BEGIN:VEVENT
DTSTART;VALUE=DATE:20251012
DTEND;VALUE=DATE:20251013
DTSTAMP:20260423T040254
CREATED:20241205T154002Z
LAST-MODIFIED:20241205T154002Z
UID:10008388-1760227200-1760313599@rsfirstchurch.org
SUMMARY:Pastor Appreciation Sunday
DESCRIPTION:
URL:https://rsfirstchurch.org/event/pastor-appreciation-sunday-3/
END:VEVENT
BEGIN:VEVENT
DTSTART;TZID=America/New_York:20251012T092500
DTEND;TZID=America/New_York:20251012T092500
DTSTAMP:20260423T040254
CREATED:20230119T183707Z
LAST-MODIFIED:20240620T140142Z
UID:10000147-1760261100-1760261100@rsfirstchurch.org
SUMMARY:Worship
DESCRIPTION:
URL:https://rsfirstchurch.org/event/worship/2025-10-12/
END:VEVENT
BEGIN:VEVENT
DTSTART;TZID=America/New_York:20251012T103000
DTEND;TZID=America/New_York:20251012T103000
DTSTAMP:20260423T040254
CREATED:20230119T184106Z
LAST-MODIFIED:20260312T122652Z
UID:10000408-1760265000-1760265000@rsfirstchurch.org
SUMMARY:Sunday School
DESCRIPTION:
URL:https://rsfirstchurch.org/event/sunday-school/2025-10-12/
END:VEVENT
BEGIN:VEVENT
DTSTART;TZID=America/New_York:20251012T103000
DTEND;TZID=America/New_York:20251012T103000
DTSTAMP:20260423T040254
CREATED:20250314T130829Z
LAST-MODIFIED:20260312T121940Z
UID:10009031-1760265000-1760265000@rsfirstchurch.org
SUMMARY:Sunday School
DESCRIPTION:
URL:https://rsfirstchurch.org/event/sunday-school-2-2/2025-10-12/
END:VEVENT
BEGIN:VEVENT
DTSTART;VALUE=DATE:20251013
DTEND;VALUE=DATE:20251014
DTSTAMP:20260423T040254
CREATED:20250228T165756Z
LAST-MODIFIED:20250228T165756Z
UID:10008496-1760313600-1760399999@rsfirstchurch.org
SUMMARY:Office Closed
DESCRIPTION:
URL:https://rsfirstchurch.org/event/office-closed-34/
END:VEVENT
BEGIN:VEVENT
DTSTART;TZID=America/New_York:20251013T190000
DTEND;TZID=America/New_York:20251013T190000
DTSTAMP:20260423T040254
CREATED:20241015T135305Z
LAST-MODIFIED:20241015T135305Z
UID:10008179-1760382000-1760382000@rsfirstchurch.org
SUMMARY:BDM Meeting
DESCRIPTION:
URL:https://rsfirstchurch.org/event/bdm-meeting-2/2025-10-13/
END:VEVENT
BEGIN:VEVENT
DTSTART;TZID=America/New_York:20251014T093000
DTEND;TZID=America/New_York:20251014T093000
DTSTAMP:20260423T040254
CREATED:20240620T133215Z
LAST-MODIFIED:20240620T133215Z
UID:10007389-1760434200-1760434200@rsfirstchurch.org
SUMMARY:Bible Study
DESCRIPTION:
URL:https://rsfirstchurch.org/event/bible-study-6/2025-10-14/
END:VEVENT
BEGIN:VEVENT
DTSTART;TZID=America/New_York:20251014T183000
DTEND;TZID=America/New_York:20251014T183000
DTSTAMP:20260423T040254
CREATED:20240301T180511Z
LAST-MODIFIED:20240403T151316Z
UID:10006384-1760466600-1760466600@rsfirstchurch.org
SUMMARY:Good Grief
DESCRIPTION:
URL:https://rsfirstchurch.org/event/good-grief-4/2025-10-14/
END:VEVENT
BEGIN:VEVENT
DTSTART;TZID=America/New_York:20251015T130000
DTEND;TZID=America/New_York:20251015T130000
DTSTAMP:20260423T040254
CREATED:20240329T151242Z
LAST-MODIFIED:20240403T145534Z
UID:10006047-1760533200-1760533200@rsfirstchurch.org
SUMMARY:Newsletter Submission Deadline
DESCRIPTION:
URL:https://rsfirstchurch.org/event/newsletter-submission-deadline-3/2025-10-15/
END:VEVENT
BEGIN:VEVENT
DTSTART;TZID=America/New_York:20251015T130000
DTEND;TZID=America/New_York:20251015T130000
DTSTAMP:20260423T040254
CREATED:20240620T133921Z
LAST-MODIFIED:20251118T131449Z
UID:10007688-1760533200-1760533200@rsfirstchurch.org
SUMMARY:Prayer Shawl Ministry
DESCRIPTION:
URL:https://rsfirstchurch.org/event/prayer-shawl-ministry-10/2025-10-15/
END:VEVENT
BEGIN:VEVENT
DTSTART;TZID=America/New_York:20251015T174500
DTEND;TZID=America/New_York:20251015T174500
DTSTAMP:20260423T040254
CREATED:20250926T145240Z
LAST-MODIFIED:20250926T145437Z
UID:10009171-1760550300-1760550300@rsfirstchurch.org
SUMMARY:ReCharge
DESCRIPTION:
URL:https://rsfirstchurch.org/event/recharge-10/2025-10-15/
END:VEVENT
BEGIN:VEVENT
DTSTART;TZID=America/New_York:20251015T181500
DTEND;TZID=America/New_York:20251015T181500
DTSTAMP:20260423T040254
CREATED:20240402T154730Z
LAST-MODIFIED:20251118T131605Z
UID:10005790-1760552100-1760552100@rsfirstchurch.org
SUMMARY:Virtual Bible Study
DESCRIPTION:
URL:https://rsfirstchurch.org/event/virtual-bible-study-2/2025-10-15/
END:VEVENT
BEGIN:VEVENT
DTSTART;TZID=America/New_York:20251015T183000
DTEND;TZID=America/New_York:20251015T183000
DTSTAMP:20260423T040254
CREATED:20250722T160010Z
LAST-MODIFIED:20250801T142944Z
UID:10008928-1760553000-1760553000@rsfirstchurch.org
SUMMARY:Chancel Choir
DESCRIPTION:
URL:https://rsfirstchurch.org/event/chancel-choir-2/2025-10-15/
END:VEVENT
BEGIN:VEVENT
DTSTART;TZID=America/New_York:20251016T090000
DTEND;TZID=America/New_York:20251016T090000
DTSTAMP:20260423T040254
CREATED:20240620T123934Z
LAST-MODIFIED:20251118T133941Z
UID:10006873-1760605200-1760605200@rsfirstchurch.org
SUMMARY:Bulletin Submission Deadline
DESCRIPTION:
URL:https://rsfirstchurch.org/event/bulletin-submission-deadline/2025-10-16/
END:VEVENT
BEGIN:VEVENT
DTSTART;TZID=America/New_York:20251016T090000
DTEND;TZID=America/New_York:20251016T090000
DTSTAMP:20260423T040254
CREATED:20240807T140741Z
LAST-MODIFIED:20260204T165958Z
UID:10001975-1760605200-1760605200@rsfirstchurch.org
SUMMARY:Breakfast Fellowship
DESCRIPTION:
URL:https://rsfirstchurch.org/event/breakfast-fellowship-at-spring-house-grille-2/2025-10-16/
END:VEVENT
BEGIN:VEVENT
DTSTART;TZID=America/New_York:20251016T183000
DTEND;TZID=America/New_York:20251016T203000
DTSTAMP:20260423T040254
CREATED:20250801T140301Z
LAST-MODIFIED:20251118T131930Z
UID:10007132-1760639400-1760646600@rsfirstchurch.org
SUMMARY:Knitting Group in Parlor
DESCRIPTION:
URL:https://rsfirstchurch.org/event/knitting-group-in-parlor-8-2/2025-10-16/
END:VEVENT
BEGIN:VEVENT
DTSTART;TZID=America/New_York:20251017T173000
DTEND;TZID=America/New_York:20251017T190000
DTSTAMP:20260423T040254
CREATED:20240809T164943Z
LAST-MODIFIED:20250801T142224Z
UID:10009019-1760722200-1760727600@rsfirstchurch.org
SUMMARY:Parking Lot Fundraiser
DESCRIPTION:
URL:https://rsfirstchurch.org/event/parking-lot-fundraiser-3/2025-10-17/
END:VEVENT
BEGIN:VEVENT
DTSTART;TZID=America/New_York:20251017T210000
DTEND;TZID=America/New_York:20251017T230000
DTSTAMP:20260423T040254
CREATED:20240809T160331Z
LAST-MODIFIED:20250801T140045Z
UID:10008950-1760734800-1760742000@rsfirstchurch.org
SUMMARY:5th Quarter
DESCRIPTION:
URL:https://rsfirstchurch.org/event/5th-quarter-4/2025-10-17/
END:VEVENT
END:VCALENDAR