BEGIN:VCALENDAR
VERSION:2.0
PRODID:-//Roaring Spring First Church of the Brethren - ECPv6.11.2.1//NONSGML v1.0//EN
CALSCALE:GREGORIAN
METHOD:PUBLISH
X-WR-CALNAME:Roaring Spring First Church of the Brethren
X-ORIGINAL-URL:https://rsfirstchurch.org
X-WR-CALDESC:Events for Roaring Spring First Church of the Brethren
REFRESH-INTERVAL;VALUE=DURATION:PT1H
X-Robots-Tag:noindex
X-PUBLISHED-TTL:PT1H
BEGIN:VTIMEZONE
TZID:America/New_York
BEGIN:DAYLIGHT
TZOFFSETFROM:-0500
TZOFFSETTO:-0400
TZNAME:EDT
DTSTART:20270314T070000
END:DAYLIGHT
BEGIN:STANDARD
TZOFFSETFROM:-0400
TZOFFSETTO:-0500
TZNAME:EST
DTSTART:20271107T060000
END:STANDARD
END:VTIMEZONE
BEGIN:VEVENT
DTSTART;TZID=America/New_York:20271031T092500
DTEND;TZID=America/New_York:20271031T092500
DTSTAMP:20260419T135632
CREATED:20230119T183707Z
LAST-MODIFIED:20240620T140142Z
UID:10000254-1824974700-1824974700@rsfirstchurch.org
SUMMARY:Worship
DESCRIPTION:
URL:https://rsfirstchurch.org/event/worship/2027-10-31/
END:VEVENT
BEGIN:VEVENT
DTSTART;TZID=America/New_York:20271031T103000
DTEND;TZID=America/New_York:20271031T103000
DTSTAMP:20260419T135632
CREATED:20230119T184106Z
LAST-MODIFIED:20260312T122652Z
UID:10000515-1824978600-1824978600@rsfirstchurch.org
SUMMARY:Sunday School
DESCRIPTION:
URL:https://rsfirstchurch.org/event/sunday-school/2027-10-31/
END:VEVENT
BEGIN:VEVENT
DTSTART;TZID=America/New_York:20271031T114500
DTEND;TZID=America/New_York:20271031T124500
DTSTAMP:20260419T135632
CREATED:20260204T160234Z
LAST-MODIFIED:20260312T124530Z
UID:10004175-1824983100-1824986700@rsfirstchurch.org
SUMMARY:5th Sunday Fellowship Meal
DESCRIPTION:
URL:https://rsfirstchurch.org/event/5th-sunday-fellowship-meal-4-2/2027-10-31/
END:VEVENT
BEGIN:VEVENT
DTSTART;TZID=America/New_York:20271102T093000
DTEND;TZID=America/New_York:20271102T093000
DTSTAMP:20260419T135632
CREATED:20240620T133215Z
LAST-MODIFIED:20240620T133215Z
UID:10007496-1825147800-1825147800@rsfirstchurch.org
SUMMARY:Bible Study
DESCRIPTION:
URL:https://rsfirstchurch.org/event/bible-study-6/2027-11-02/
END:VEVENT
BEGIN:VEVENT
DTSTART;TZID=America/New_York:20271103T130000
DTEND;TZID=America/New_York:20271103T130000
DTSTAMP:20260419T135632
CREATED:20240620T133921Z
LAST-MODIFIED:20251118T131449Z
UID:10007795-1825246800-1825246800@rsfirstchurch.org
SUMMARY:Prayer Shawl Ministry
DESCRIPTION:
URL:https://rsfirstchurch.org/event/prayer-shawl-ministry-10/2027-11-03/
END:VEVENT
BEGIN:VEVENT
DTSTART;TZID=America/New_York:20271103T181500
DTEND;TZID=America/New_York:20271103T181500
DTSTAMP:20260419T135632
CREATED:20240402T154730Z
LAST-MODIFIED:20251118T131605Z
UID:10005897-1825265700-1825265700@rsfirstchurch.org
SUMMARY:Virtual Bible Study
DESCRIPTION:
URL:https://rsfirstchurch.org/event/virtual-bible-study-2/2027-11-03/
END:VEVENT
BEGIN:VEVENT
DTSTART;TZID=America/New_York:20271103T183000
DTEND;TZID=America/New_York:20271103T183000
DTSTAMP:20260419T135632
CREATED:20260120T141110Z
LAST-MODIFIED:20260120T141110Z
UID:10010018-1825266600-1825266600@rsfirstchurch.org
SUMMARY:Chancel Choir Practice
DESCRIPTION:
URL:https://rsfirstchurch.org/event/chancel-choir-practice-10/2027-11-03/
END:VEVENT
BEGIN:VEVENT
DTSTART;TZID=America/New_York:20271104T090000
DTEND;TZID=America/New_York:20271104T090000
DTSTAMP:20260419T135632
CREATED:20240807T140741Z
LAST-MODIFIED:20260204T165958Z
UID:10002082-1825318800-1825318800@rsfirstchurch.org
SUMMARY:Breakfast Fellowship
DESCRIPTION:
URL:https://rsfirstchurch.org/event/breakfast-fellowship-at-spring-house-grille-2/2027-11-04/
END:VEVENT
BEGIN:VEVENT
DTSTART;TZID=America/New_York:20271104T090000
DTEND;TZID=America/New_York:20271104T090000
DTSTAMP:20260419T135632
CREATED:20260204T171102Z
LAST-MODIFIED:20260204T171125Z
UID:10006980-1825318800-1825318800@rsfirstchurch.org
SUMMARY:Bulletin Submission Deadline
DESCRIPTION:
URL:https://rsfirstchurch.org/event/bulletin-submission-deadline-3/2027-11-04/
END:VEVENT
BEGIN:VEVENT
DTSTART;TZID=America/New_York:20271104T180000
DTEND;TZID=America/New_York:20271104T180000
DTSTAMP:20260419T135632
CREATED:20250106T141931Z
LAST-MODIFIED:20260312T121706Z
UID:10008440-1825351200-1825351200@rsfirstchurch.org
SUMMARY:Cove Cause For Cancer Meeting
DESCRIPTION:
URL:https://rsfirstchurch.org/event/cove-causes-cancer-meeting-2/2027-11-04/
END:VEVENT
BEGIN:VEVENT
DTSTART;TZID=America/New_York:20271104T183000
DTEND;TZID=America/New_York:20271104T203000
DTSTAMP:20260419T135632
CREATED:20250801T140301Z
LAST-MODIFIED:20251118T131930Z
UID:10007239-1825353000-1825360200@rsfirstchurch.org
SUMMARY:Knitting Group in Parlor
DESCRIPTION:
URL:https://rsfirstchurch.org/event/knitting-group-in-parlor-8-2/2027-11-04/
END:VEVENT
BEGIN:VEVENT
DTSTART;TZID=America/New_York:20271107T092500
DTEND;TZID=America/New_York:20271107T092500
DTSTAMP:20260419T135632
CREATED:20230119T183707Z
LAST-MODIFIED:20240620T140142Z
UID:10000255-1825579500-1825579500@rsfirstchurch.org
SUMMARY:Worship
DESCRIPTION:
URL:https://rsfirstchurch.org/event/worship/2027-11-07/
END:VEVENT
BEGIN:VEVENT
DTSTART;TZID=America/New_York:20271107T103000
DTEND;TZID=America/New_York:20271107T103000
DTSTAMP:20260419T135632
CREATED:20230119T184106Z
LAST-MODIFIED:20260312T122652Z
UID:10000516-1825583400-1825583400@rsfirstchurch.org
SUMMARY:Sunday School
DESCRIPTION:
URL:https://rsfirstchurch.org/event/sunday-school/2027-11-07/
END:VEVENT
BEGIN:VEVENT
DTSTART;TZID=America/New_York:20271107T180000
DTEND;TZID=America/New_York:20271107T193000
DTSTAMP:20260419T135632
CREATED:20251229T164331Z
LAST-MODIFIED:20251229T164331Z
UID:10009602-1825610400-1825615800@rsfirstchurch.org
SUMMARY:By His Invitation
DESCRIPTION:
URL:https://rsfirstchurch.org/event/by-his-invitation-2/2027-11-07/
END:VEVENT
BEGIN:VEVENT
DTSTART;TZID=America/New_York:20271108T190000
DTEND;TZID=America/New_York:20271108T190000
DTSTAMP:20260419T135632
CREATED:20251118T130817Z
LAST-MODIFIED:20251118T133139Z
UID:10008204-1825700400-1825700400@rsfirstchurch.org
SUMMARY:BDM Meeting
DESCRIPTION:
URL:https://rsfirstchurch.org/event/bdm-meeting-2-2/2027-11-08/
END:VEVENT
BEGIN:VEVENT
DTSTART;TZID=America/New_York:20271109T093000
DTEND;TZID=America/New_York:20271109T093000
DTSTAMP:20260419T135632
CREATED:20240620T133215Z
LAST-MODIFIED:20240620T133215Z
UID:10007497-1825752600-1825752600@rsfirstchurch.org
SUMMARY:Bible Study
DESCRIPTION:
URL:https://rsfirstchurch.org/event/bible-study-6/2027-11-09/
END:VEVENT
BEGIN:VEVENT
DTSTART;TZID=America/New_York:20271109T183000
DTEND;TZID=America/New_York:20271109T183000
DTSTAMP:20260419T135632
CREATED:20240301T180511Z
LAST-MODIFIED:20240403T151316Z
UID:10006409-1825785000-1825785000@rsfirstchurch.org
SUMMARY:Good Grief
DESCRIPTION:
URL:https://rsfirstchurch.org/event/good-grief-4/2027-11-09/
END:VEVENT
BEGIN:VEVENT
DTSTART;TZID=America/New_York:20271110T130000
DTEND;TZID=America/New_York:20271110T130000
DTSTAMP:20260419T135632
CREATED:20240620T133921Z
LAST-MODIFIED:20251118T131449Z
UID:10007796-1825851600-1825851600@rsfirstchurch.org
SUMMARY:Prayer Shawl Ministry
DESCRIPTION:
URL:https://rsfirstchurch.org/event/prayer-shawl-ministry-10/2027-11-10/
END:VEVENT
BEGIN:VEVENT
DTSTART;TZID=America/New_York:20271110T181500
DTEND;TZID=America/New_York:20271110T181500
DTSTAMP:20260419T135632
CREATED:20240402T154730Z
LAST-MODIFIED:20251118T131605Z
UID:10005898-1825870500-1825870500@rsfirstchurch.org
SUMMARY:Virtual Bible Study
DESCRIPTION:
URL:https://rsfirstchurch.org/event/virtual-bible-study-2/2027-11-10/
END:VEVENT
BEGIN:VEVENT
DTSTART;TZID=America/New_York:20271110T183000
DTEND;TZID=America/New_York:20271110T183000
DTSTAMP:20260419T135632
CREATED:20260120T141110Z
LAST-MODIFIED:20260120T141110Z
UID:10010019-1825871400-1825871400@rsfirstchurch.org
SUMMARY:Chancel Choir Practice
DESCRIPTION:
URL:https://rsfirstchurch.org/event/chancel-choir-practice-10/2027-11-10/
END:VEVENT
BEGIN:VEVENT
DTSTART;TZID=America/New_York:20271111T090000
DTEND;TZID=America/New_York:20271111T090000
DTSTAMP:20260419T135632
CREATED:20240807T140741Z
LAST-MODIFIED:20260204T165958Z
UID:10002083-1825923600-1825923600@rsfirstchurch.org
SUMMARY:Breakfast Fellowship
DESCRIPTION:
URL:https://rsfirstchurch.org/event/breakfast-fellowship-at-spring-house-grille-2/2027-11-11/
END:VEVENT
BEGIN:VEVENT
DTSTART;TZID=America/New_York:20271111T090000
DTEND;TZID=America/New_York:20271111T090000
DTSTAMP:20260419T135633
CREATED:20260204T171102Z
LAST-MODIFIED:20260204T171125Z
UID:10006981-1825923600-1825923600@rsfirstchurch.org
SUMMARY:Bulletin Submission Deadline
DESCRIPTION:
URL:https://rsfirstchurch.org/event/bulletin-submission-deadline-3/2027-11-11/
END:VEVENT
BEGIN:VEVENT
DTSTART;TZID=America/New_York:20271111T183000
DTEND;TZID=America/New_York:20271111T203000
DTSTAMP:20260419T135633
CREATED:20250801T140301Z
LAST-MODIFIED:20251118T131930Z
UID:10007240-1825957800-1825965000@rsfirstchurch.org
SUMMARY:Knitting Group in Parlor
DESCRIPTION:
URL:https://rsfirstchurch.org/event/knitting-group-in-parlor-8-2/2027-11-11/
END:VEVENT
BEGIN:VEVENT
DTSTART;VALUE=DATE:20271114
DTEND;VALUE=DATE:20271115
DTSTAMP:20260419T135633
CREATED:20230119T190600Z
LAST-MODIFIED:20230119T190600Z
UID:10002852-1826150400-1826236799@rsfirstchurch.org
SUMMARY:Food Bank Collection
DESCRIPTION:
URL:https://rsfirstchurch.org/event/food-bank-collection/2027-11-14/
END:VEVENT
BEGIN:VEVENT
DTSTART;TZID=America/New_York:20271114T092500
DTEND;TZID=America/New_York:20271114T092500
DTSTAMP:20260419T135633
CREATED:20230119T183707Z
LAST-MODIFIED:20240620T140142Z
UID:10000256-1826184300-1826184300@rsfirstchurch.org
SUMMARY:Worship
DESCRIPTION:
URL:https://rsfirstchurch.org/event/worship/2027-11-14/
END:VEVENT
BEGIN:VEVENT
DTSTART;TZID=America/New_York:20271114T103000
DTEND;TZID=America/New_York:20271114T103000
DTSTAMP:20260419T135633
CREATED:20230119T184106Z
LAST-MODIFIED:20260312T122652Z
UID:10000517-1826188200-1826188200@rsfirstchurch.org
SUMMARY:Sunday School
DESCRIPTION:
URL:https://rsfirstchurch.org/event/sunday-school/2027-11-14/
END:VEVENT
BEGIN:VEVENT
DTSTART;TZID=America/New_York:20271115T100000
DTEND;TZID=America/New_York:20271115T100000
DTSTAMP:20260419T135633
CREATED:20251118T131144Z
LAST-MODIFIED:20251118T134255Z
UID:10009380-1826272800-1826272800@rsfirstchurch.org
SUMMARY:Book Group
DESCRIPTION:
URL:https://rsfirstchurch.org/event/book-group-4-2/2027-11-15/
END:VEVENT
BEGIN:VEVENT
DTSTART;TZID=America/New_York:20271115T130000
DTEND;TZID=America/New_York:20271115T130000
DTSTAMP:20260419T135633
CREATED:20240329T151242Z
LAST-MODIFIED:20240403T145534Z
UID:10006072-1826283600-1826283600@rsfirstchurch.org
SUMMARY:Newsletter Submission Deadline
DESCRIPTION:
URL:https://rsfirstchurch.org/event/newsletter-submission-deadline-3/2027-11-15/
END:VEVENT
BEGIN:VEVENT
DTSTART;TZID=America/New_York:20271116T093000
DTEND;TZID=America/New_York:20271116T093000
DTSTAMP:20260419T135633
CREATED:20240620T133215Z
LAST-MODIFIED:20240620T133215Z
UID:10007498-1826357400-1826357400@rsfirstchurch.org
SUMMARY:Bible Study
DESCRIPTION:
URL:https://rsfirstchurch.org/event/bible-study-6/2027-11-16/
END:VEVENT
BEGIN:VEVENT
DTSTART;TZID=America/New_York:20271116T180000
DTEND;TZID=America/New_York:20271116T180000
DTSTAMP:20260419T135633
CREATED:20240329T151732Z
LAST-MODIFIED:20240403T145642Z
UID:10006131-1826388000-1826388000@rsfirstchurch.org
SUMMARY:Sisters of Faith
DESCRIPTION:
URL:https://rsfirstchurch.org/event/sisters-of-faith-6/2027-11-16/
END:VEVENT
END:VCALENDAR