BEGIN:VCALENDAR
VERSION:2.0
PRODID:-//Roaring Spring First Church of the Brethren - ECPv6.11.2.1//NONSGML v1.0//EN
CALSCALE:GREGORIAN
METHOD:PUBLISH
X-WR-CALNAME:Roaring Spring First Church of the Brethren
X-ORIGINAL-URL:https://rsfirstchurch.org
X-WR-CALDESC:Events for Roaring Spring First Church of the Brethren
REFRESH-INTERVAL;VALUE=DURATION:PT1H
X-Robots-Tag:noindex
X-PUBLISHED-TTL:PT1H
BEGIN:VTIMEZONE
TZID:America/New_York
BEGIN:DAYLIGHT
TZOFFSETFROM:-0500
TZOFFSETTO:-0400
TZNAME:EDT
DTSTART:20270314T070000
END:DAYLIGHT
BEGIN:STANDARD
TZOFFSETFROM:-0400
TZOFFSETTO:-0500
TZNAME:EST
DTSTART:20271107T060000
END:STANDARD
END:VTIMEZONE
BEGIN:VEVENT
DTSTART;TZID=America/New_York:20271202T090000
DTEND;TZID=America/New_York:20271202T090000
DTSTAMP:20260419T135640
CREATED:20240807T140741Z
LAST-MODIFIED:20260204T165958Z
UID:10002086-1827738000-1827738000@rsfirstchurch.org
SUMMARY:Breakfast Fellowship
DESCRIPTION:
URL:https://rsfirstchurch.org/event/breakfast-fellowship-at-spring-house-grille-2/2027-12-02/
END:VEVENT
BEGIN:VEVENT
DTSTART;TZID=America/New_York:20271202T090000
DTEND;TZID=America/New_York:20271202T090000
DTSTAMP:20260419T135640
CREATED:20260204T171102Z
LAST-MODIFIED:20260204T171125Z
UID:10006984-1827738000-1827738000@rsfirstchurch.org
SUMMARY:Bulletin Submission Deadline
DESCRIPTION:
URL:https://rsfirstchurch.org/event/bulletin-submission-deadline-3/2027-12-02/
END:VEVENT
BEGIN:VEVENT
DTSTART;TZID=America/New_York:20271202T180000
DTEND;TZID=America/New_York:20271202T180000
DTSTAMP:20260419T135640
CREATED:20250106T141931Z
LAST-MODIFIED:20260312T121706Z
UID:10008441-1827770400-1827770400@rsfirstchurch.org
SUMMARY:Cove Cause For Cancer Meeting
DESCRIPTION:
URL:https://rsfirstchurch.org/event/cove-causes-cancer-meeting-2/2027-12-02/
END:VEVENT
BEGIN:VEVENT
DTSTART;TZID=America/New_York:20271202T183000
DTEND;TZID=America/New_York:20271202T203000
DTSTAMP:20260419T135640
CREATED:20250801T140301Z
LAST-MODIFIED:20251118T131930Z
UID:10007243-1827772200-1827779400@rsfirstchurch.org
SUMMARY:Knitting Group in Parlor
DESCRIPTION:
URL:https://rsfirstchurch.org/event/knitting-group-in-parlor-8-2/2027-12-02/
END:VEVENT
BEGIN:VEVENT
DTSTART;TZID=America/New_York:20271205T092500
DTEND;TZID=America/New_York:20271205T092500
DTSTAMP:20260419T135640
CREATED:20230119T183707Z
LAST-MODIFIED:20240620T140142Z
UID:10000259-1827998700-1827998700@rsfirstchurch.org
SUMMARY:Worship
DESCRIPTION:
URL:https://rsfirstchurch.org/event/worship/2027-12-05/
END:VEVENT
BEGIN:VEVENT
DTSTART;TZID=America/New_York:20271205T103000
DTEND;TZID=America/New_York:20271205T103000
DTSTAMP:20260419T135640
CREATED:20230119T184106Z
LAST-MODIFIED:20260312T122652Z
UID:10000520-1828002600-1828002600@rsfirstchurch.org
SUMMARY:Sunday School
DESCRIPTION:
URL:https://rsfirstchurch.org/event/sunday-school/2027-12-05/
END:VEVENT
BEGIN:VEVENT
DTSTART;TZID=America/New_York:20271205T180000
DTEND;TZID=America/New_York:20271205T193000
DTSTAMP:20260419T135640
CREATED:20251229T164331Z
LAST-MODIFIED:20251229T164331Z
UID:10009603-1828029600-1828035000@rsfirstchurch.org
SUMMARY:By His Invitation
DESCRIPTION:
URL:https://rsfirstchurch.org/event/by-his-invitation-2/2027-12-05/
END:VEVENT
BEGIN:VEVENT
DTSTART;TZID=America/New_York:20271207T093000
DTEND;TZID=America/New_York:20271207T093000
DTSTAMP:20260419T135640
CREATED:20240620T133215Z
LAST-MODIFIED:20240620T133215Z
UID:10007501-1828171800-1828171800@rsfirstchurch.org
SUMMARY:Bible Study
DESCRIPTION:
URL:https://rsfirstchurch.org/event/bible-study-6/2027-12-07/
END:VEVENT
BEGIN:VEVENT
DTSTART;TZID=America/New_York:20271208T130000
DTEND;TZID=America/New_York:20271208T130000
DTSTAMP:20260419T135640
CREATED:20240620T133921Z
LAST-MODIFIED:20251118T131449Z
UID:10007800-1828270800-1828270800@rsfirstchurch.org
SUMMARY:Prayer Shawl Ministry
DESCRIPTION:
URL:https://rsfirstchurch.org/event/prayer-shawl-ministry-10/2027-12-08/
END:VEVENT
BEGIN:VEVENT
DTSTART;TZID=America/New_York:20271208T181500
DTEND;TZID=America/New_York:20271208T181500
DTSTAMP:20260419T135640
CREATED:20240402T154730Z
LAST-MODIFIED:20251118T131605Z
UID:10005902-1828289700-1828289700@rsfirstchurch.org
SUMMARY:Virtual Bible Study
DESCRIPTION:
URL:https://rsfirstchurch.org/event/virtual-bible-study-2/2027-12-08/
END:VEVENT
BEGIN:VEVENT
DTSTART;TZID=America/New_York:20271208T183000
DTEND;TZID=America/New_York:20271208T183000
DTSTAMP:20260419T135640
CREATED:20260120T141110Z
LAST-MODIFIED:20260120T141110Z
UID:10010023-1828290600-1828290600@rsfirstchurch.org
SUMMARY:Chancel Choir Practice
DESCRIPTION:
URL:https://rsfirstchurch.org/event/chancel-choir-practice-10/2027-12-08/
END:VEVENT
BEGIN:VEVENT
DTSTART;TZID=America/New_York:20271209T090000
DTEND;TZID=America/New_York:20271209T090000
DTSTAMP:20260419T135640
CREATED:20240807T140741Z
LAST-MODIFIED:20260204T165958Z
UID:10002087-1828342800-1828342800@rsfirstchurch.org
SUMMARY:Breakfast Fellowship
DESCRIPTION:
URL:https://rsfirstchurch.org/event/breakfast-fellowship-at-spring-house-grille-2/2027-12-09/
END:VEVENT
BEGIN:VEVENT
DTSTART;TZID=America/New_York:20271209T090000
DTEND;TZID=America/New_York:20271209T090000
DTSTAMP:20260419T135640
CREATED:20260204T171102Z
LAST-MODIFIED:20260204T171125Z
UID:10006985-1828342800-1828342800@rsfirstchurch.org
SUMMARY:Bulletin Submission Deadline
DESCRIPTION:
URL:https://rsfirstchurch.org/event/bulletin-submission-deadline-3/2027-12-09/
END:VEVENT
BEGIN:VEVENT
DTSTART;TZID=America/New_York:20271209T183000
DTEND;TZID=America/New_York:20271209T203000
DTSTAMP:20260419T135640
CREATED:20250801T140301Z
LAST-MODIFIED:20251118T131930Z
UID:10007244-1828377000-1828384200@rsfirstchurch.org
SUMMARY:Knitting Group in Parlor
DESCRIPTION:
URL:https://rsfirstchurch.org/event/knitting-group-in-parlor-8-2/2027-12-09/
END:VEVENT
BEGIN:VEVENT
DTSTART;VALUE=DATE:20271212
DTEND;VALUE=DATE:20271213
DTSTAMP:20260419T135640
CREATED:20230119T190600Z
LAST-MODIFIED:20230119T190600Z
UID:10002853-1828569600-1828655999@rsfirstchurch.org
SUMMARY:Food Bank Collection
DESCRIPTION:
URL:https://rsfirstchurch.org/event/food-bank-collection/2027-12-12/
END:VEVENT
BEGIN:VEVENT
DTSTART;TZID=America/New_York:20271212T092500
DTEND;TZID=America/New_York:20271212T092500
DTSTAMP:20260419T135640
CREATED:20230119T183707Z
LAST-MODIFIED:20240620T140142Z
UID:10000260-1828603500-1828603500@rsfirstchurch.org
SUMMARY:Worship
DESCRIPTION:
URL:https://rsfirstchurch.org/event/worship/2027-12-12/
END:VEVENT
BEGIN:VEVENT
DTSTART;TZID=America/New_York:20271212T103000
DTEND;TZID=America/New_York:20271212T103000
DTSTAMP:20260419T135640
CREATED:20230119T184106Z
LAST-MODIFIED:20260312T122652Z
UID:10000521-1828607400-1828607400@rsfirstchurch.org
SUMMARY:Sunday School
DESCRIPTION:
URL:https://rsfirstchurch.org/event/sunday-school/2027-12-12/
END:VEVENT
BEGIN:VEVENT
DTSTART;TZID=America/New_York:20271213T190000
DTEND;TZID=America/New_York:20271213T190000
DTSTAMP:20260419T135640
CREATED:20251118T130817Z
LAST-MODIFIED:20251118T133139Z
UID:10008205-1828724400-1828724400@rsfirstchurch.org
SUMMARY:BDM Meeting
DESCRIPTION:
URL:https://rsfirstchurch.org/event/bdm-meeting-2-2/2027-12-13/
END:VEVENT
BEGIN:VEVENT
DTSTART;TZID=America/New_York:20271214T093000
DTEND;TZID=America/New_York:20271214T093000
DTSTAMP:20260419T135640
CREATED:20240620T133215Z
LAST-MODIFIED:20240620T133215Z
UID:10007502-1828776600-1828776600@rsfirstchurch.org
SUMMARY:Bible Study
DESCRIPTION:
URL:https://rsfirstchurch.org/event/bible-study-6/2027-12-14/
END:VEVENT
BEGIN:VEVENT
DTSTART;TZID=America/New_York:20271214T183000
DTEND;TZID=America/New_York:20271214T183000
DTSTAMP:20260419T135640
CREATED:20240301T180511Z
LAST-MODIFIED:20240403T151316Z
UID:10006410-1828809000-1828809000@rsfirstchurch.org
SUMMARY:Good Grief
DESCRIPTION:
URL:https://rsfirstchurch.org/event/good-grief-4/2027-12-14/
END:VEVENT
BEGIN:VEVENT
DTSTART;TZID=America/New_York:20271215T130000
DTEND;TZID=America/New_York:20271215T130000
DTSTAMP:20260419T135640
CREATED:20240329T151242Z
LAST-MODIFIED:20240403T145534Z
UID:10006073-1828875600-1828875600@rsfirstchurch.org
SUMMARY:Newsletter Submission Deadline
DESCRIPTION:
URL:https://rsfirstchurch.org/event/newsletter-submission-deadline-3/2027-12-15/
END:VEVENT
BEGIN:VEVENT
DTSTART;TZID=America/New_York:20271215T130000
DTEND;TZID=America/New_York:20271215T130000
DTSTAMP:20260419T135640
CREATED:20240620T133921Z
LAST-MODIFIED:20251118T131449Z
UID:10007801-1828875600-1828875600@rsfirstchurch.org
SUMMARY:Prayer Shawl Ministry
DESCRIPTION:
URL:https://rsfirstchurch.org/event/prayer-shawl-ministry-10/2027-12-15/
END:VEVENT
BEGIN:VEVENT
DTSTART;TZID=America/New_York:20271215T181500
DTEND;TZID=America/New_York:20271215T181500
DTSTAMP:20260419T135640
CREATED:20240402T154730Z
LAST-MODIFIED:20251118T131605Z
UID:10005903-1828894500-1828894500@rsfirstchurch.org
SUMMARY:Virtual Bible Study
DESCRIPTION:
URL:https://rsfirstchurch.org/event/virtual-bible-study-2/2027-12-15/
END:VEVENT
BEGIN:VEVENT
DTSTART;TZID=America/New_York:20271215T183000
DTEND;TZID=America/New_York:20271215T183000
DTSTAMP:20260419T135640
CREATED:20260120T141110Z
LAST-MODIFIED:20260120T141110Z
UID:10010024-1828895400-1828895400@rsfirstchurch.org
SUMMARY:Chancel Choir Practice
DESCRIPTION:
URL:https://rsfirstchurch.org/event/chancel-choir-practice-10/2027-12-15/
END:VEVENT
BEGIN:VEVENT
DTSTART;TZID=America/New_York:20271216T090000
DTEND;TZID=America/New_York:20271216T090000
DTSTAMP:20260419T135640
CREATED:20240807T140741Z
LAST-MODIFIED:20260204T165958Z
UID:10002088-1828947600-1828947600@rsfirstchurch.org
SUMMARY:Breakfast Fellowship
DESCRIPTION:
URL:https://rsfirstchurch.org/event/breakfast-fellowship-at-spring-house-grille-2/2027-12-16/
END:VEVENT
BEGIN:VEVENT
DTSTART;TZID=America/New_York:20271216T090000
DTEND;TZID=America/New_York:20271216T090000
DTSTAMP:20260419T135640
CREATED:20260204T171102Z
LAST-MODIFIED:20260204T171125Z
UID:10006986-1828947600-1828947600@rsfirstchurch.org
SUMMARY:Bulletin Submission Deadline
DESCRIPTION:
URL:https://rsfirstchurch.org/event/bulletin-submission-deadline-3/2027-12-16/
END:VEVENT
BEGIN:VEVENT
DTSTART;TZID=America/New_York:20271216T183000
DTEND;TZID=America/New_York:20271216T203000
DTSTAMP:20260419T135640
CREATED:20250801T140301Z
LAST-MODIFIED:20251118T131930Z
UID:10007245-1828981800-1828989000@rsfirstchurch.org
SUMMARY:Knitting Group in Parlor
DESCRIPTION:
URL:https://rsfirstchurch.org/event/knitting-group-in-parlor-8-2/2027-12-16/
END:VEVENT
BEGIN:VEVENT
DTSTART;TZID=America/New_York:20271218T080000
DTEND;TZID=America/New_York:20271218T080000
DTSTAMP:20260419T135640
CREATED:20240820T122738Z
LAST-MODIFIED:20250818T153925Z
UID:10006014-1829116800-1829116800@rsfirstchurch.org
SUMMARY:Men's Fellowship Breakfast
DESCRIPTION:
URL:https://rsfirstchurch.org/event/mens-fellowship-breakfast-3-2/2027-12-18/
END:VEVENT
BEGIN:VEVENT
DTSTART;TZID=America/New_York:20271219T092500
DTEND;TZID=America/New_York:20271219T092500
DTSTAMP:20260419T135640
CREATED:20230119T183707Z
LAST-MODIFIED:20240620T140142Z
UID:10000261-1829208300-1829208300@rsfirstchurch.org
SUMMARY:Worship
DESCRIPTION:
URL:https://rsfirstchurch.org/event/worship/2027-12-19/
END:VEVENT
BEGIN:VEVENT
DTSTART;TZID=America/New_York:20271219T103000
DTEND;TZID=America/New_York:20271219T103000
DTSTAMP:20260419T135640
CREATED:20230119T184106Z
LAST-MODIFIED:20260312T122652Z
UID:10000522-1829212200-1829212200@rsfirstchurch.org
SUMMARY:Sunday School
DESCRIPTION:
URL:https://rsfirstchurch.org/event/sunday-school/2027-12-19/
END:VEVENT
END:VCALENDAR