BEGIN:VCALENDAR
VERSION:2.0
PRODID:-//Roaring Spring First Church of the Brethren - ECPv6.11.2.1//NONSGML v1.0//EN
CALSCALE:GREGORIAN
METHOD:PUBLISH
X-WR-CALNAME:Roaring Spring First Church of the Brethren
X-ORIGINAL-URL:https://rsfirstchurch.org
X-WR-CALDESC:Events for Roaring Spring First Church of the Brethren
REFRESH-INTERVAL;VALUE=DURATION:PT1H
X-Robots-Tag:noindex
X-PUBLISHED-TTL:PT1H
BEGIN:VTIMEZONE
TZID:America/New_York
BEGIN:DAYLIGHT
TZOFFSETFROM:-0500
TZOFFSETTO:-0400
TZNAME:EDT
DTSTART:20280312T070000
END:DAYLIGHT
BEGIN:STANDARD
TZOFFSETFROM:-0400
TZOFFSETTO:-0500
TZNAME:EST
DTSTART:20281105T060000
END:STANDARD
END:VTIMEZONE
BEGIN:VEVENT
DTSTART;TZID=America/New_York:20280201T093000
DTEND;TZID=America/New_York:20280201T093000
DTSTAMP:20260425T155325
CREATED:20240620T133215Z
LAST-MODIFIED:20240620T133215Z
UID:10007509-1833010200-1833010200@rsfirstchurch.org
SUMMARY:Bible Study
DESCRIPTION:
URL:https://rsfirstchurch.org/event/bible-study-6/2028-02-01/
END:VEVENT
BEGIN:VEVENT
DTSTART;TZID=America/New_York:20280202T130000
DTEND;TZID=America/New_York:20280202T130000
DTSTAMP:20260425T155325
CREATED:20240620T133921Z
LAST-MODIFIED:20251118T131449Z
UID:10007808-1833109200-1833109200@rsfirstchurch.org
SUMMARY:Prayer Shawl Ministry
DESCRIPTION:
URL:https://rsfirstchurch.org/event/prayer-shawl-ministry-10/2028-02-02/
END:VEVENT
BEGIN:VEVENT
DTSTART;TZID=America/New_York:20280202T181500
DTEND;TZID=America/New_York:20280202T181500
DTSTAMP:20260425T155325
CREATED:20240402T154730Z
LAST-MODIFIED:20251118T131605Z
UID:10005910-1833128100-1833128100@rsfirstchurch.org
SUMMARY:Virtual Bible Study
DESCRIPTION:
URL:https://rsfirstchurch.org/event/virtual-bible-study-2/2028-02-02/
END:VEVENT
BEGIN:VEVENT
DTSTART;TZID=America/New_York:20280202T183000
DTEND;TZID=America/New_York:20280202T183000
DTSTAMP:20260425T155325
CREATED:20260120T141110Z
LAST-MODIFIED:20260120T141110Z
UID:10010031-1833129000-1833129000@rsfirstchurch.org
SUMMARY:Chancel Choir Practice
DESCRIPTION:
URL:https://rsfirstchurch.org/event/chancel-choir-practice-10/2028-02-02/
END:VEVENT
BEGIN:VEVENT
DTSTART;TZID=America/New_York:20280203T090000
DTEND;TZID=America/New_York:20280203T090000
DTSTAMP:20260425T155325
CREATED:20240807T140741Z
LAST-MODIFIED:20260204T165958Z
UID:10006305-1833181200-1833181200@rsfirstchurch.org
SUMMARY:Breakfast Fellowship
DESCRIPTION:
URL:https://rsfirstchurch.org/event/breakfast-fellowship-at-spring-house-grille-2/2028-02-03/
END:VEVENT
BEGIN:VEVENT
DTSTART;TZID=America/New_York:20280203T090000
DTEND;TZID=America/New_York:20280203T090000
DTSTAMP:20260425T155325
CREATED:20260204T171102Z
LAST-MODIFIED:20260204T171125Z
UID:10006993-1833181200-1833181200@rsfirstchurch.org
SUMMARY:Bulletin Submission Deadline
DESCRIPTION:
URL:https://rsfirstchurch.org/event/bulletin-submission-deadline-3/2028-02-03/
END:VEVENT
BEGIN:VEVENT
DTSTART;TZID=America/New_York:20280203T180000
DTEND;TZID=America/New_York:20280203T180000
DTSTAMP:20260425T155325
CREATED:20250106T141931Z
LAST-MODIFIED:20260312T121706Z
UID:10008443-1833213600-1833213600@rsfirstchurch.org
SUMMARY:Cove Cause For Cancer Meeting
DESCRIPTION:
URL:https://rsfirstchurch.org/event/cove-causes-cancer-meeting-2/2028-02-03/
END:VEVENT
BEGIN:VEVENT
DTSTART;TZID=America/New_York:20280203T183000
DTEND;TZID=America/New_York:20280203T203000
DTSTAMP:20260425T155325
CREATED:20250801T140301Z
LAST-MODIFIED:20251118T131930Z
UID:10007252-1833215400-1833222600@rsfirstchurch.org
SUMMARY:Knitting Group in Parlor
DESCRIPTION:
URL:https://rsfirstchurch.org/event/knitting-group-in-parlor-8-2/2028-02-03/
END:VEVENT
BEGIN:VEVENT
DTSTART;TZID=America/New_York:20280206T092500
DTEND;TZID=America/New_York:20280206T092500
DTSTAMP:20260425T155325
CREATED:20230119T183707Z
LAST-MODIFIED:20240620T140142Z
UID:10004851-1833441900-1833441900@rsfirstchurch.org
SUMMARY:Worship
DESCRIPTION:
URL:https://rsfirstchurch.org/event/worship/2028-02-06/
END:VEVENT
BEGIN:VEVENT
DTSTART;TZID=America/New_York:20280206T103000
DTEND;TZID=America/New_York:20280206T103000
DTSTAMP:20260425T155325
CREATED:20230119T184106Z
LAST-MODIFIED:20260312T122652Z
UID:10004878-1833445800-1833445800@rsfirstchurch.org
SUMMARY:Sunday School
DESCRIPTION:
URL:https://rsfirstchurch.org/event/sunday-school/2028-02-06/
END:VEVENT
BEGIN:VEVENT
DTSTART;TZID=America/New_York:20280206T180000
DTEND;TZID=America/New_York:20280206T193000
DTSTAMP:20260425T155325
CREATED:20251229T164331Z
LAST-MODIFIED:20251229T164331Z
UID:10009605-1833472800-1833478200@rsfirstchurch.org
SUMMARY:By His Invitation
DESCRIPTION:
URL:https://rsfirstchurch.org/event/by-his-invitation-2/2028-02-06/
END:VEVENT
BEGIN:VEVENT
DTSTART;TZID=America/New_York:20280208T093000
DTEND;TZID=America/New_York:20280208T093000
DTSTAMP:20260425T155325
CREATED:20240620T133215Z
LAST-MODIFIED:20240620T133215Z
UID:10007510-1833615000-1833615000@rsfirstchurch.org
SUMMARY:Bible Study
DESCRIPTION:
URL:https://rsfirstchurch.org/event/bible-study-6/2028-02-08/
END:VEVENT
BEGIN:VEVENT
DTSTART;TZID=America/New_York:20280208T183000
DTEND;TZID=America/New_York:20280208T183000
DTSTAMP:20260425T155325
CREATED:20240301T180511Z
LAST-MODIFIED:20240403T151316Z
UID:10006412-1833647400-1833647400@rsfirstchurch.org
SUMMARY:Good Grief
DESCRIPTION:
URL:https://rsfirstchurch.org/event/good-grief-4/2028-02-08/
END:VEVENT
BEGIN:VEVENT
DTSTART;TZID=America/New_York:20280209T130000
DTEND;TZID=America/New_York:20280209T130000
DTSTAMP:20260425T155325
CREATED:20240620T133921Z
LAST-MODIFIED:20251118T131449Z
UID:10007809-1833714000-1833714000@rsfirstchurch.org
SUMMARY:Prayer Shawl Ministry
DESCRIPTION:
URL:https://rsfirstchurch.org/event/prayer-shawl-ministry-10/2028-02-09/
END:VEVENT
BEGIN:VEVENT
DTSTART;TZID=America/New_York:20280209T181500
DTEND;TZID=America/New_York:20280209T181500
DTSTAMP:20260425T155325
CREATED:20240402T154730Z
LAST-MODIFIED:20251118T131605Z
UID:10005911-1833732900-1833732900@rsfirstchurch.org
SUMMARY:Virtual Bible Study
DESCRIPTION:
URL:https://rsfirstchurch.org/event/virtual-bible-study-2/2028-02-09/
END:VEVENT
BEGIN:VEVENT
DTSTART;TZID=America/New_York:20280209T183000
DTEND;TZID=America/New_York:20280209T183000
DTSTAMP:20260425T155325
CREATED:20260120T141110Z
LAST-MODIFIED:20260120T141110Z
UID:10010032-1833733800-1833733800@rsfirstchurch.org
SUMMARY:Chancel Choir Practice
DESCRIPTION:
URL:https://rsfirstchurch.org/event/chancel-choir-practice-10/2028-02-09/
END:VEVENT
BEGIN:VEVENT
DTSTART;TZID=America/New_York:20280210T090000
DTEND;TZID=America/New_York:20280210T090000
DTSTAMP:20260425T155325
CREATED:20240807T140741Z
LAST-MODIFIED:20260204T165958Z
UID:10006306-1833786000-1833786000@rsfirstchurch.org
SUMMARY:Breakfast Fellowship
DESCRIPTION:
URL:https://rsfirstchurch.org/event/breakfast-fellowship-at-spring-house-grille-2/2028-02-10/
END:VEVENT
BEGIN:VEVENT
DTSTART;TZID=America/New_York:20280210T090000
DTEND;TZID=America/New_York:20280210T090000
DTSTAMP:20260425T155325
CREATED:20260204T171102Z
LAST-MODIFIED:20260204T171125Z
UID:10006994-1833786000-1833786000@rsfirstchurch.org
SUMMARY:Bulletin Submission Deadline
DESCRIPTION:
URL:https://rsfirstchurch.org/event/bulletin-submission-deadline-3/2028-02-10/
END:VEVENT
BEGIN:VEVENT
DTSTART;TZID=America/New_York:20280210T183000
DTEND;TZID=America/New_York:20280210T203000
DTSTAMP:20260425T155325
CREATED:20250801T140301Z
LAST-MODIFIED:20251118T131930Z
UID:10007253-1833820200-1833827400@rsfirstchurch.org
SUMMARY:Knitting Group in Parlor
DESCRIPTION:
URL:https://rsfirstchurch.org/event/knitting-group-in-parlor-8-2/2028-02-10/
END:VEVENT
BEGIN:VEVENT
DTSTART;TZID=America/New_York:20280213T092500
DTEND;TZID=America/New_York:20280213T092500
DTSTAMP:20260425T155325
CREATED:20230119T183707Z
LAST-MODIFIED:20240620T140142Z
UID:10004852-1834046700-1834046700@rsfirstchurch.org
SUMMARY:Worship
DESCRIPTION:
URL:https://rsfirstchurch.org/event/worship/2028-02-13/
END:VEVENT
BEGIN:VEVENT
DTSTART;TZID=America/New_York:20280213T103000
DTEND;TZID=America/New_York:20280213T103000
DTSTAMP:20260425T155325
CREATED:20230119T184106Z
LAST-MODIFIED:20260312T122652Z
UID:10004879-1834050600-1834050600@rsfirstchurch.org
SUMMARY:Sunday School
DESCRIPTION:
URL:https://rsfirstchurch.org/event/sunday-school/2028-02-13/
END:VEVENT
BEGIN:VEVENT
DTSTART;TZID=America/New_York:20280214T190000
DTEND;TZID=America/New_York:20280214T190000
DTSTAMP:20260425T155325
CREATED:20251118T130817Z
LAST-MODIFIED:20251118T133139Z
UID:10008207-1834167600-1834167600@rsfirstchurch.org
SUMMARY:BDM Meeting
DESCRIPTION:
URL:https://rsfirstchurch.org/event/bdm-meeting-2-2/2028-02-14/
END:VEVENT
BEGIN:VEVENT
DTSTART;TZID=America/New_York:20280215T093000
DTEND;TZID=America/New_York:20280215T093000
DTSTAMP:20260425T155325
CREATED:20240620T133215Z
LAST-MODIFIED:20240620T133215Z
UID:10007511-1834219800-1834219800@rsfirstchurch.org
SUMMARY:Bible Study
DESCRIPTION:
URL:https://rsfirstchurch.org/event/bible-study-6/2028-02-15/
END:VEVENT
BEGIN:VEVENT
DTSTART;TZID=America/New_York:20280215T130000
DTEND;TZID=America/New_York:20280215T130000
DTSTAMP:20260425T155325
CREATED:20240329T151242Z
LAST-MODIFIED:20240403T145534Z
UID:10006075-1834232400-1834232400@rsfirstchurch.org
SUMMARY:Newsletter Submission Deadline
DESCRIPTION:
URL:https://rsfirstchurch.org/event/newsletter-submission-deadline-3/2028-02-15/
END:VEVENT
BEGIN:VEVENT
DTSTART;TZID=America/New_York:20280215T180000
DTEND;TZID=America/New_York:20280215T180000
DTSTAMP:20260425T155325
CREATED:20240329T151732Z
LAST-MODIFIED:20240403T145642Z
UID:10006134-1834250400-1834250400@rsfirstchurch.org
SUMMARY:Sisters of Faith
DESCRIPTION:
URL:https://rsfirstchurch.org/event/sisters-of-faith-6/2028-02-15/
END:VEVENT
BEGIN:VEVENT
DTSTART;TZID=America/New_York:20280216T130000
DTEND;TZID=America/New_York:20280216T130000
DTSTAMP:20260425T155325
CREATED:20240620T133921Z
LAST-MODIFIED:20251118T131449Z
UID:10007810-1834318800-1834318800@rsfirstchurch.org
SUMMARY:Prayer Shawl Ministry
DESCRIPTION:
URL:https://rsfirstchurch.org/event/prayer-shawl-ministry-10/2028-02-16/
END:VEVENT
BEGIN:VEVENT
DTSTART;TZID=America/New_York:20280216T181500
DTEND;TZID=America/New_York:20280216T181500
DTSTAMP:20260425T155325
CREATED:20240402T154730Z
LAST-MODIFIED:20251118T131605Z
UID:10005912-1834337700-1834337700@rsfirstchurch.org
SUMMARY:Virtual Bible Study
DESCRIPTION:
URL:https://rsfirstchurch.org/event/virtual-bible-study-2/2028-02-16/
END:VEVENT
BEGIN:VEVENT
DTSTART;TZID=America/New_York:20280216T183000
DTEND;TZID=America/New_York:20280216T183000
DTSTAMP:20260425T155325
CREATED:20260120T141110Z
LAST-MODIFIED:20260120T141110Z
UID:10010033-1834338600-1834338600@rsfirstchurch.org
SUMMARY:Chancel Choir Practice
DESCRIPTION:
URL:https://rsfirstchurch.org/event/chancel-choir-practice-10/2028-02-16/
END:VEVENT
BEGIN:VEVENT
DTSTART;TZID=America/New_York:20280217T090000
DTEND;TZID=America/New_York:20280217T090000
DTSTAMP:20260425T155325
CREATED:20240807T140741Z
LAST-MODIFIED:20260204T165958Z
UID:10006307-1834390800-1834390800@rsfirstchurch.org
SUMMARY:Breakfast Fellowship
DESCRIPTION:
URL:https://rsfirstchurch.org/event/breakfast-fellowship-at-spring-house-grille-2/2028-02-17/
END:VEVENT
BEGIN:VEVENT
DTSTART;TZID=America/New_York:20280217T090000
DTEND;TZID=America/New_York:20280217T090000
DTSTAMP:20260425T155325
CREATED:20260204T171102Z
LAST-MODIFIED:20260204T171125Z
UID:10006995-1834390800-1834390800@rsfirstchurch.org
SUMMARY:Bulletin Submission Deadline
DESCRIPTION:
URL:https://rsfirstchurch.org/event/bulletin-submission-deadline-3/2028-02-17/
END:VEVENT
END:VCALENDAR