BEGIN:VCALENDAR
VERSION:2.0
PRODID:-//Roaring Spring First Church of the Brethren - ECPv6.11.2.1//NONSGML v1.0//EN
CALSCALE:GREGORIAN
METHOD:PUBLISH
X-WR-CALNAME:Roaring Spring First Church of the Brethren
X-ORIGINAL-URL:https://rsfirstchurch.org
X-WR-CALDESC:Events for Roaring Spring First Church of the Brethren
REFRESH-INTERVAL;VALUE=DURATION:PT1H
X-Robots-Tag:noindex
X-PUBLISHED-TTL:PT1H
BEGIN:VTIMEZONE
TZID:America/New_York
BEGIN:DAYLIGHT
TZOFFSETFROM:-0500
TZOFFSETTO:-0400
TZNAME:EDT
DTSTART:20270314T070000
END:DAYLIGHT
BEGIN:STANDARD
TZOFFSETFROM:-0400
TZOFFSETTO:-0500
TZNAME:EST
DTSTART:20271107T060000
END:STANDARD
END:VTIMEZONE
BEGIN:VEVENT
DTSTART;TZID=America/New_York:20270912T103000
DTEND;TZID=America/New_York:20270912T103000
DTSTAMP:20260419T150248
CREATED:20230119T184106Z
LAST-MODIFIED:20260312T122652Z
UID:10000508-1820745000-1820745000@rsfirstchurch.org
SUMMARY:Sunday School
DESCRIPTION:
URL:https://rsfirstchurch.org/event/sunday-school/2027-09-12/
END:VEVENT
BEGIN:VEVENT
DTSTART;TZID=America/New_York:20270913T190000
DTEND;TZID=America/New_York:20270913T190000
DTSTAMP:20260419T150248
CREATED:20251118T130817Z
LAST-MODIFIED:20251118T133139Z
UID:10008202-1820862000-1820862000@rsfirstchurch.org
SUMMARY:BDM Meeting
DESCRIPTION:
URL:https://rsfirstchurch.org/event/bdm-meeting-2-2/2027-09-13/
END:VEVENT
BEGIN:VEVENT
DTSTART;TZID=America/New_York:20270914T093000
DTEND;TZID=America/New_York:20270914T093000
DTSTAMP:20260419T150248
CREATED:20240620T133215Z
LAST-MODIFIED:20240620T133215Z
UID:10007489-1820914200-1820914200@rsfirstchurch.org
SUMMARY:Bible Study
DESCRIPTION:
URL:https://rsfirstchurch.org/event/bible-study-6/2027-09-14/
END:VEVENT
BEGIN:VEVENT
DTSTART;TZID=America/New_York:20270914T183000
DTEND;TZID=America/New_York:20270914T183000
DTSTAMP:20260419T150248
CREATED:20240301T180511Z
LAST-MODIFIED:20240403T151316Z
UID:10006407-1820946600-1820946600@rsfirstchurch.org
SUMMARY:Good Grief
DESCRIPTION:
URL:https://rsfirstchurch.org/event/good-grief-4/2027-09-14/
END:VEVENT
BEGIN:VEVENT
DTSTART;TZID=America/New_York:20270915T130000
DTEND;TZID=America/New_York:20270915T130000
DTSTAMP:20260419T150248
CREATED:20240329T151242Z
LAST-MODIFIED:20240403T145534Z
UID:10006070-1821013200-1821013200@rsfirstchurch.org
SUMMARY:Newsletter Submission Deadline
DESCRIPTION:
URL:https://rsfirstchurch.org/event/newsletter-submission-deadline-3/2027-09-15/
END:VEVENT
BEGIN:VEVENT
DTSTART;TZID=America/New_York:20270915T130000
DTEND;TZID=America/New_York:20270915T130000
DTSTAMP:20260419T150248
CREATED:20240620T133921Z
LAST-MODIFIED:20251118T131449Z
UID:10007788-1821013200-1821013200@rsfirstchurch.org
SUMMARY:Prayer Shawl Ministry
DESCRIPTION:
URL:https://rsfirstchurch.org/event/prayer-shawl-ministry-10/2027-09-15/
END:VEVENT
BEGIN:VEVENT
DTSTART;TZID=America/New_York:20270915T181500
DTEND;TZID=America/New_York:20270915T181500
DTSTAMP:20260419T150248
CREATED:20240402T154730Z
LAST-MODIFIED:20251118T131605Z
UID:10005890-1821032100-1821032100@rsfirstchurch.org
SUMMARY:Virtual Bible Study
DESCRIPTION:
URL:https://rsfirstchurch.org/event/virtual-bible-study-2/2027-09-15/
END:VEVENT
BEGIN:VEVENT
DTSTART;TZID=America/New_York:20270915T183000
DTEND;TZID=America/New_York:20270915T183000
DTSTAMP:20260419T150248
CREATED:20260120T141110Z
LAST-MODIFIED:20260120T141110Z
UID:10010011-1821033000-1821033000@rsfirstchurch.org
SUMMARY:Chancel Choir Practice
DESCRIPTION:
URL:https://rsfirstchurch.org/event/chancel-choir-practice-10/2027-09-15/
END:VEVENT
BEGIN:VEVENT
DTSTART;TZID=America/New_York:20270916T090000
DTEND;TZID=America/New_York:20270916T090000
DTSTAMP:20260419T150248
CREATED:20240807T140741Z
LAST-MODIFIED:20260204T165958Z
UID:10002075-1821085200-1821085200@rsfirstchurch.org
SUMMARY:Breakfast Fellowship
DESCRIPTION:
URL:https://rsfirstchurch.org/event/breakfast-fellowship-at-spring-house-grille-2/2027-09-16/
END:VEVENT
BEGIN:VEVENT
DTSTART;TZID=America/New_York:20270916T090000
DTEND;TZID=America/New_York:20270916T090000
DTSTAMP:20260419T150248
CREATED:20260204T171102Z
LAST-MODIFIED:20260204T171125Z
UID:10006973-1821085200-1821085200@rsfirstchurch.org
SUMMARY:Bulletin Submission Deadline
DESCRIPTION:
URL:https://rsfirstchurch.org/event/bulletin-submission-deadline-3/2027-09-16/
END:VEVENT
BEGIN:VEVENT
DTSTART;TZID=America/New_York:20270916T183000
DTEND;TZID=America/New_York:20270916T203000
DTSTAMP:20260419T150248
CREATED:20250801T140301Z
LAST-MODIFIED:20251118T131930Z
UID:10007232-1821119400-1821126600@rsfirstchurch.org
SUMMARY:Knitting Group in Parlor
DESCRIPTION:
URL:https://rsfirstchurch.org/event/knitting-group-in-parlor-8-2/2027-09-16/
END:VEVENT
BEGIN:VEVENT
DTSTART;TZID=America/New_York:20270918T080000
DTEND;TZID=America/New_York:20270918T080000
DTSTAMP:20260419T150248
CREATED:20240820T122738Z
LAST-MODIFIED:20250818T153925Z
UID:10006011-1821254400-1821254400@rsfirstchurch.org
SUMMARY:Men's Fellowship Breakfast
DESCRIPTION:
URL:https://rsfirstchurch.org/event/mens-fellowship-breakfast-3-2/2027-09-18/
END:VEVENT
BEGIN:VEVENT
DTSTART;TZID=America/New_York:20270919T092500
DTEND;TZID=America/New_York:20270919T092500
DTSTAMP:20260419T150248
CREATED:20230119T183707Z
LAST-MODIFIED:20240620T140142Z
UID:10000248-1821345900-1821345900@rsfirstchurch.org
SUMMARY:Worship
DESCRIPTION:
URL:https://rsfirstchurch.org/event/worship/2027-09-19/
END:VEVENT
BEGIN:VEVENT
DTSTART;TZID=America/New_York:20270919T103000
DTEND;TZID=America/New_York:20270919T103000
DTSTAMP:20260419T150248
CREATED:20230119T184106Z
LAST-MODIFIED:20260312T122652Z
UID:10000509-1821349800-1821349800@rsfirstchurch.org
SUMMARY:Sunday School
DESCRIPTION:
URL:https://rsfirstchurch.org/event/sunday-school/2027-09-19/
END:VEVENT
BEGIN:VEVENT
DTSTART;TZID=America/New_York:20270920T100000
DTEND;TZID=America/New_York:20270920T100000
DTSTAMP:20260419T150248
CREATED:20251118T131144Z
LAST-MODIFIED:20251118T134255Z
UID:10009378-1821434400-1821434400@rsfirstchurch.org
SUMMARY:Book Group
DESCRIPTION:
URL:https://rsfirstchurch.org/event/book-group-4-2/2027-09-20/
END:VEVENT
BEGIN:VEVENT
DTSTART;TZID=America/New_York:20270921T093000
DTEND;TZID=America/New_York:20270921T093000
DTSTAMP:20260419T150248
CREATED:20240620T133215Z
LAST-MODIFIED:20240620T133215Z
UID:10007490-1821519000-1821519000@rsfirstchurch.org
SUMMARY:Bible Study
DESCRIPTION:
URL:https://rsfirstchurch.org/event/bible-study-6/2027-09-21/
END:VEVENT
BEGIN:VEVENT
DTSTART;TZID=America/New_York:20270921T180000
DTEND;TZID=America/New_York:20270921T180000
DTSTAMP:20260419T150248
CREATED:20240329T151732Z
LAST-MODIFIED:20240403T145642Z
UID:10006129-1821549600-1821549600@rsfirstchurch.org
SUMMARY:Sisters of Faith
DESCRIPTION:
URL:https://rsfirstchurch.org/event/sisters-of-faith-6/2027-09-21/
END:VEVENT
BEGIN:VEVENT
DTSTART;TZID=America/New_York:20270922T130000
DTEND;TZID=America/New_York:20270922T130000
DTSTAMP:20260419T150248
CREATED:20240620T133921Z
LAST-MODIFIED:20251118T131449Z
UID:10007789-1821618000-1821618000@rsfirstchurch.org
SUMMARY:Prayer Shawl Ministry
DESCRIPTION:
URL:https://rsfirstchurch.org/event/prayer-shawl-ministry-10/2027-09-22/
END:VEVENT
BEGIN:VEVENT
DTSTART;TZID=America/New_York:20270922T181500
DTEND;TZID=America/New_York:20270922T181500
DTSTAMP:20260419T150248
CREATED:20240402T154730Z
LAST-MODIFIED:20251118T131605Z
UID:10005891-1821636900-1821636900@rsfirstchurch.org
SUMMARY:Virtual Bible Study
DESCRIPTION:
URL:https://rsfirstchurch.org/event/virtual-bible-study-2/2027-09-22/
END:VEVENT
BEGIN:VEVENT
DTSTART;TZID=America/New_York:20270922T183000
DTEND;TZID=America/New_York:20270922T183000
DTSTAMP:20260419T150248
CREATED:20260120T141110Z
LAST-MODIFIED:20260120T141110Z
UID:10010012-1821637800-1821637800@rsfirstchurch.org
SUMMARY:Chancel Choir Practice
DESCRIPTION:
URL:https://rsfirstchurch.org/event/chancel-choir-practice-10/2027-09-22/
END:VEVENT
BEGIN:VEVENT
DTSTART;TZID=America/New_York:20270923T090000
DTEND;TZID=America/New_York:20270923T090000
DTSTAMP:20260419T150248
CREATED:20240807T140741Z
LAST-MODIFIED:20260204T165958Z
UID:10002076-1821690000-1821690000@rsfirstchurch.org
SUMMARY:Breakfast Fellowship
DESCRIPTION:
URL:https://rsfirstchurch.org/event/breakfast-fellowship-at-spring-house-grille-2/2027-09-23/
END:VEVENT
BEGIN:VEVENT
DTSTART;TZID=America/New_York:20270923T090000
DTEND;TZID=America/New_York:20270923T090000
DTSTAMP:20260419T150248
CREATED:20260204T171102Z
LAST-MODIFIED:20260204T171125Z
UID:10006974-1821690000-1821690000@rsfirstchurch.org
SUMMARY:Bulletin Submission Deadline
DESCRIPTION:
URL:https://rsfirstchurch.org/event/bulletin-submission-deadline-3/2027-09-23/
END:VEVENT
BEGIN:VEVENT
DTSTART;TZID=America/New_York:20270923T183000
DTEND;TZID=America/New_York:20270923T203000
DTSTAMP:20260419T150248
CREATED:20250801T140301Z
LAST-MODIFIED:20251118T131930Z
UID:10007233-1821724200-1821731400@rsfirstchurch.org
SUMMARY:Knitting Group in Parlor
DESCRIPTION:
URL:https://rsfirstchurch.org/event/knitting-group-in-parlor-8-2/2027-09-23/
END:VEVENT
BEGIN:VEVENT
DTSTART;TZID=America/New_York:20270926T092500
DTEND;TZID=America/New_York:20270926T092500
DTSTAMP:20260419T150249
CREATED:20230119T183707Z
LAST-MODIFIED:20240620T140142Z
UID:10000249-1821950700-1821950700@rsfirstchurch.org
SUMMARY:Worship
DESCRIPTION:
URL:https://rsfirstchurch.org/event/worship/2027-09-26/
END:VEVENT
BEGIN:VEVENT
DTSTART;TZID=America/New_York:20270926T103000
DTEND;TZID=America/New_York:20270926T103000
DTSTAMP:20260419T150249
CREATED:20230119T184106Z
LAST-MODIFIED:20260312T122652Z
UID:10000510-1821954600-1821954600@rsfirstchurch.org
SUMMARY:Sunday School
DESCRIPTION:
URL:https://rsfirstchurch.org/event/sunday-school/2027-09-26/
END:VEVENT
BEGIN:VEVENT
DTSTART;TZID=America/New_York:20270928T093000
DTEND;TZID=America/New_York:20270928T093000
DTSTAMP:20260419T150249
CREATED:20240620T133215Z
LAST-MODIFIED:20240620T133215Z
UID:10007491-1822123800-1822123800@rsfirstchurch.org
SUMMARY:Bible Study
DESCRIPTION:
URL:https://rsfirstchurch.org/event/bible-study-6/2027-09-28/
END:VEVENT
BEGIN:VEVENT
DTSTART;TZID=America/New_York:20270929T130000
DTEND;TZID=America/New_York:20270929T130000
DTSTAMP:20260419T150249
CREATED:20240620T133921Z
LAST-MODIFIED:20251118T131449Z
UID:10007790-1822222800-1822222800@rsfirstchurch.org
SUMMARY:Prayer Shawl Ministry
DESCRIPTION:
URL:https://rsfirstchurch.org/event/prayer-shawl-ministry-10/2027-09-29/
END:VEVENT
BEGIN:VEVENT
DTSTART;TZID=America/New_York:20270929T181500
DTEND;TZID=America/New_York:20270929T181500
DTSTAMP:20260419T150249
CREATED:20240402T154730Z
LAST-MODIFIED:20251118T131605Z
UID:10005892-1822241700-1822241700@rsfirstchurch.org
SUMMARY:Virtual Bible Study
DESCRIPTION:
URL:https://rsfirstchurch.org/event/virtual-bible-study-2/2027-09-29/
END:VEVENT
BEGIN:VEVENT
DTSTART;TZID=America/New_York:20270929T183000
DTEND;TZID=America/New_York:20270929T183000
DTSTAMP:20260419T150249
CREATED:20260120T141110Z
LAST-MODIFIED:20260120T141110Z
UID:10010013-1822242600-1822242600@rsfirstchurch.org
SUMMARY:Chancel Choir Practice
DESCRIPTION:
URL:https://rsfirstchurch.org/event/chancel-choir-practice-10/2027-09-29/
END:VEVENT
BEGIN:VEVENT
DTSTART;TZID=America/New_York:20270930T090000
DTEND;TZID=America/New_York:20270930T090000
DTSTAMP:20260419T150249
CREATED:20240807T140741Z
LAST-MODIFIED:20260204T165958Z
UID:10002077-1822294800-1822294800@rsfirstchurch.org
SUMMARY:Breakfast Fellowship
DESCRIPTION:
URL:https://rsfirstchurch.org/event/breakfast-fellowship-at-spring-house-grille-2/2027-09-30/
END:VEVENT
END:VCALENDAR