BEGIN:VCALENDAR
VERSION:2.0
PRODID:-//Roaring Spring First Church of the Brethren - ECPv6.11.2.1//NONSGML v1.0//EN
CALSCALE:GREGORIAN
METHOD:PUBLISH
X-ORIGINAL-URL:https://rsfirstchurch.org
X-WR-CALDESC:Events for Roaring Spring First Church of the Brethren
REFRESH-INTERVAL;VALUE=DURATION:PT1H
X-Robots-Tag:noindex
X-PUBLISHED-TTL:PT1H
BEGIN:VTIMEZONE
TZID:America/New_York
BEGIN:DAYLIGHT
TZOFFSETFROM:-0500
TZOFFSETTO:-0400
TZNAME:EDT
DTSTART:20270314T070000
END:DAYLIGHT
BEGIN:STANDARD
TZOFFSETFROM:-0400
TZOFFSETTO:-0500
TZNAME:EST
DTSTART:20271107T060000
END:STANDARD
BEGIN:DAYLIGHT
TZOFFSETFROM:-0500
TZOFFSETTO:-0400
TZNAME:EDT
DTSTART:20280312T070000
END:DAYLIGHT
BEGIN:STANDARD
TZOFFSETFROM:-0400
TZOFFSETTO:-0500
TZNAME:EST
DTSTART:20281105T060000
END:STANDARD
END:VTIMEZONE
BEGIN:VEVENT
DTSTART;TZID=America/New_York:20271221T093000
DTEND;TZID=America/New_York:20271221T093000
DTSTAMP:20260422T005740
CREATED:20240620T133215Z
LAST-MODIFIED:20240620T133215Z
UID:10007503-1829381400-1829381400@rsfirstchurch.org
SUMMARY:Bible Study
DESCRIPTION:
URL:https://rsfirstchurch.org/event/bible-study-6/2027-12-21/
END:VEVENT
BEGIN:VEVENT
DTSTART;TZID=America/New_York:20271221T180000
DTEND;TZID=America/New_York:20271221T180000
DTSTAMP:20260422T005740
CREATED:20240329T151732Z
LAST-MODIFIED:20240403T145642Z
UID:10006132-1829412000-1829412000@rsfirstchurch.org
SUMMARY:Sisters of Faith
DESCRIPTION:
URL:https://rsfirstchurch.org/event/sisters-of-faith-6/2027-12-21/
END:VEVENT
BEGIN:VEVENT
DTSTART;TZID=America/New_York:20271222T130000
DTEND;TZID=America/New_York:20271222T130000
DTSTAMP:20260422T005740
CREATED:20240620T133921Z
LAST-MODIFIED:20251118T131449Z
UID:10007802-1829480400-1829480400@rsfirstchurch.org
SUMMARY:Prayer Shawl Ministry
DESCRIPTION:
URL:https://rsfirstchurch.org/event/prayer-shawl-ministry-10/2027-12-22/
END:VEVENT
BEGIN:VEVENT
DTSTART;TZID=America/New_York:20271222T181500
DTEND;TZID=America/New_York:20271222T181500
DTSTAMP:20260422T005740
CREATED:20240402T154730Z
LAST-MODIFIED:20251118T131605Z
UID:10005904-1829499300-1829499300@rsfirstchurch.org
SUMMARY:Virtual Bible Study
DESCRIPTION:
URL:https://rsfirstchurch.org/event/virtual-bible-study-2/2027-12-22/
END:VEVENT
BEGIN:VEVENT
DTSTART;TZID=America/New_York:20271222T183000
DTEND;TZID=America/New_York:20271222T183000
DTSTAMP:20260422T005740
CREATED:20260120T141110Z
LAST-MODIFIED:20260120T141110Z
UID:10010025-1829500200-1829500200@rsfirstchurch.org
SUMMARY:Chancel Choir Practice
DESCRIPTION:
URL:https://rsfirstchurch.org/event/chancel-choir-practice-10/2027-12-22/
END:VEVENT
BEGIN:VEVENT
DTSTART;TZID=America/New_York:20271223T090000
DTEND;TZID=America/New_York:20271223T090000
DTSTAMP:20260422T005740
CREATED:20240807T140741Z
LAST-MODIFIED:20260204T165958Z
UID:10002089-1829552400-1829552400@rsfirstchurch.org
SUMMARY:Breakfast Fellowship
DESCRIPTION:
URL:https://rsfirstchurch.org/event/breakfast-fellowship-at-spring-house-grille-2/2027-12-23/
END:VEVENT
BEGIN:VEVENT
DTSTART;TZID=America/New_York:20271223T090000
DTEND;TZID=America/New_York:20271223T090000
DTSTAMP:20260422T005740
CREATED:20260204T171102Z
LAST-MODIFIED:20260204T171125Z
UID:10006987-1829552400-1829552400@rsfirstchurch.org
SUMMARY:Bulletin Submission Deadline
DESCRIPTION:
URL:https://rsfirstchurch.org/event/bulletin-submission-deadline-3/2027-12-23/
END:VEVENT
BEGIN:VEVENT
DTSTART;TZID=America/New_York:20271223T183000
DTEND;TZID=America/New_York:20271223T203000
DTSTAMP:20260422T005740
CREATED:20250801T140301Z
LAST-MODIFIED:20251118T131930Z
UID:10007246-1829586600-1829593800@rsfirstchurch.org
SUMMARY:Knitting Group in Parlor
DESCRIPTION:
URL:https://rsfirstchurch.org/event/knitting-group-in-parlor-8-2/2027-12-23/
END:VEVENT
BEGIN:VEVENT
DTSTART;TZID=America/New_York:20271226T092500
DTEND;TZID=America/New_York:20271226T092500
DTSTAMP:20260422T005740
CREATED:20230119T183707Z
LAST-MODIFIED:20240620T140142Z
UID:10000262-1829813100-1829813100@rsfirstchurch.org
SUMMARY:Worship
DESCRIPTION:
URL:https://rsfirstchurch.org/event/worship/2027-12-26/
END:VEVENT
BEGIN:VEVENT
DTSTART;TZID=America/New_York:20271226T103000
DTEND;TZID=America/New_York:20271226T103000
DTSTAMP:20260422T005740
CREATED:20230119T184106Z
LAST-MODIFIED:20260312T122652Z
UID:10000523-1829817000-1829817000@rsfirstchurch.org
SUMMARY:Sunday School
DESCRIPTION:
URL:https://rsfirstchurch.org/event/sunday-school/2027-12-26/
END:VEVENT
BEGIN:VEVENT
DTSTART;TZID=America/New_York:20271228T093000
DTEND;TZID=America/New_York:20271228T093000
DTSTAMP:20260422T005740
CREATED:20240620T133215Z
LAST-MODIFIED:20240620T133215Z
UID:10007504-1829986200-1829986200@rsfirstchurch.org
SUMMARY:Bible Study
DESCRIPTION:
URL:https://rsfirstchurch.org/event/bible-study-6/2027-12-28/
END:VEVENT
BEGIN:VEVENT
DTSTART;TZID=America/New_York:20271229T130000
DTEND;TZID=America/New_York:20271229T130000
DTSTAMP:20260422T005740
CREATED:20240620T133921Z
LAST-MODIFIED:20251118T131449Z
UID:10007803-1830085200-1830085200@rsfirstchurch.org
SUMMARY:Prayer Shawl Ministry
DESCRIPTION:
URL:https://rsfirstchurch.org/event/prayer-shawl-ministry-10/2027-12-29/
END:VEVENT
BEGIN:VEVENT
DTSTART;TZID=America/New_York:20271229T181500
DTEND;TZID=America/New_York:20271229T181500
DTSTAMP:20260422T005740
CREATED:20240402T154730Z
LAST-MODIFIED:20251118T131605Z
UID:10005905-1830104100-1830104100@rsfirstchurch.org
SUMMARY:Virtual Bible Study
DESCRIPTION:
URL:https://rsfirstchurch.org/event/virtual-bible-study-2/2027-12-29/
END:VEVENT
BEGIN:VEVENT
DTSTART;TZID=America/New_York:20271229T183000
DTEND;TZID=America/New_York:20271229T183000
DTSTAMP:20260422T005740
CREATED:20260120T141110Z
LAST-MODIFIED:20260120T141110Z
UID:10010026-1830105000-1830105000@rsfirstchurch.org
SUMMARY:Chancel Choir Practice
DESCRIPTION:
URL:https://rsfirstchurch.org/event/chancel-choir-practice-10/2027-12-29/
END:VEVENT
BEGIN:VEVENT
DTSTART;TZID=America/New_York:20271230T090000
DTEND;TZID=America/New_York:20271230T090000
DTSTAMP:20260422T005740
CREATED:20240807T140741Z
LAST-MODIFIED:20260204T165958Z
UID:10002090-1830157200-1830157200@rsfirstchurch.org
SUMMARY:Breakfast Fellowship
DESCRIPTION:
URL:https://rsfirstchurch.org/event/breakfast-fellowship-at-spring-house-grille-2/2027-12-30/
END:VEVENT
BEGIN:VEVENT
DTSTART;TZID=America/New_York:20271230T090000
DTEND;TZID=America/New_York:20271230T090000
DTSTAMP:20260422T005740
CREATED:20260204T171102Z
LAST-MODIFIED:20260204T171125Z
UID:10006988-1830157200-1830157200@rsfirstchurch.org
SUMMARY:Bulletin Submission Deadline
DESCRIPTION:
URL:https://rsfirstchurch.org/event/bulletin-submission-deadline-3/2027-12-30/
END:VEVENT
BEGIN:VEVENT
DTSTART;TZID=America/New_York:20271230T183000
DTEND;TZID=America/New_York:20271230T203000
DTSTAMP:20260422T005740
CREATED:20250801T140301Z
LAST-MODIFIED:20251118T131930Z
UID:10007247-1830191400-1830198600@rsfirstchurch.org
SUMMARY:Knitting Group in Parlor
DESCRIPTION:
URL:https://rsfirstchurch.org/event/knitting-group-in-parlor-8-2/2027-12-30/
END:VEVENT
BEGIN:VEVENT
DTSTART;TZID=America/New_York:20280102T092500
DTEND;TZID=America/New_York:20280102T092500
DTSTAMP:20260422T005740
CREATED:20230119T183707Z
LAST-MODIFIED:20240620T140142Z
UID:10000263-1830417900-1830417900@rsfirstchurch.org
SUMMARY:Worship
DESCRIPTION:
URL:https://rsfirstchurch.org/event/worship/2028-01-02/
END:VEVENT
BEGIN:VEVENT
DTSTART;TZID=America/New_York:20280102T103000
DTEND;TZID=America/New_York:20280102T103000
DTSTAMP:20260422T005740
CREATED:20230119T184106Z
LAST-MODIFIED:20260312T122652Z
UID:10000524-1830421800-1830421800@rsfirstchurch.org
SUMMARY:Sunday School
DESCRIPTION:
URL:https://rsfirstchurch.org/event/sunday-school/2028-01-02/
END:VEVENT
BEGIN:VEVENT
DTSTART;TZID=America/New_York:20280102T180000
DTEND;TZID=America/New_York:20280102T193000
DTSTAMP:20260422T005740
CREATED:20251229T164331Z
LAST-MODIFIED:20251229T164331Z
UID:10009604-1830448800-1830454200@rsfirstchurch.org
SUMMARY:By His Invitation
DESCRIPTION:
URL:https://rsfirstchurch.org/event/by-his-invitation-2/2028-01-02/
END:VEVENT
BEGIN:VEVENT
DTSTART;TZID=America/New_York:20280104T093000
DTEND;TZID=America/New_York:20280104T093000
DTSTAMP:20260422T005740
CREATED:20240620T133215Z
LAST-MODIFIED:20240620T133215Z
UID:10007505-1830591000-1830591000@rsfirstchurch.org
SUMMARY:Bible Study
DESCRIPTION:
URL:https://rsfirstchurch.org/event/bible-study-6/2028-01-04/
END:VEVENT
BEGIN:VEVENT
DTSTART;TZID=America/New_York:20280105T130000
DTEND;TZID=America/New_York:20280105T130000
DTSTAMP:20260422T005740
CREATED:20240620T133921Z
LAST-MODIFIED:20251118T131449Z
UID:10007804-1830690000-1830690000@rsfirstchurch.org
SUMMARY:Prayer Shawl Ministry
DESCRIPTION:
URL:https://rsfirstchurch.org/event/prayer-shawl-ministry-10/2028-01-05/
END:VEVENT
BEGIN:VEVENT
DTSTART;TZID=America/New_York:20280105T181500
DTEND;TZID=America/New_York:20280105T181500
DTSTAMP:20260422T005740
CREATED:20240402T154730Z
LAST-MODIFIED:20251118T131605Z
UID:10005906-1830708900-1830708900@rsfirstchurch.org
SUMMARY:Virtual Bible Study
DESCRIPTION:
URL:https://rsfirstchurch.org/event/virtual-bible-study-2/2028-01-05/
END:VEVENT
BEGIN:VEVENT
DTSTART;TZID=America/New_York:20280105T183000
DTEND;TZID=America/New_York:20280105T183000
DTSTAMP:20260422T005740
CREATED:20260120T141110Z
LAST-MODIFIED:20260120T141110Z
UID:10010027-1830709800-1830709800@rsfirstchurch.org
SUMMARY:Chancel Choir Practice
DESCRIPTION:
URL:https://rsfirstchurch.org/event/chancel-choir-practice-10/2028-01-05/
END:VEVENT
BEGIN:VEVENT
DTSTART;TZID=America/New_York:20280106T090000
DTEND;TZID=America/New_York:20280106T090000
DTSTAMP:20260422T005740
CREATED:20240807T140741Z
LAST-MODIFIED:20260204T165958Z
UID:10002091-1830762000-1830762000@rsfirstchurch.org
SUMMARY:Breakfast Fellowship
DESCRIPTION:
URL:https://rsfirstchurch.org/event/breakfast-fellowship-at-spring-house-grille-2/2028-01-06/
END:VEVENT
BEGIN:VEVENT
DTSTART;TZID=America/New_York:20280106T090000
DTEND;TZID=America/New_York:20280106T090000
DTSTAMP:20260422T005740
CREATED:20260204T171102Z
LAST-MODIFIED:20260204T171125Z
UID:10006989-1830762000-1830762000@rsfirstchurch.org
SUMMARY:Bulletin Submission Deadline
DESCRIPTION:
URL:https://rsfirstchurch.org/event/bulletin-submission-deadline-3/2028-01-06/
END:VEVENT
BEGIN:VEVENT
DTSTART;TZID=America/New_York:20280106T180000
DTEND;TZID=America/New_York:20280106T180000
DTSTAMP:20260422T005740
CREATED:20250106T141931Z
LAST-MODIFIED:20260312T121706Z
UID:10008442-1830794400-1830794400@rsfirstchurch.org
SUMMARY:Cove Cause For Cancer Meeting
DESCRIPTION:
URL:https://rsfirstchurch.org/event/cove-causes-cancer-meeting-2/2028-01-06/
END:VEVENT
BEGIN:VEVENT
DTSTART;TZID=America/New_York:20280106T183000
DTEND;TZID=America/New_York:20280106T203000
DTSTAMP:20260422T005740
CREATED:20250801T140301Z
LAST-MODIFIED:20251118T131930Z
UID:10007248-1830796200-1830803400@rsfirstchurch.org
SUMMARY:Knitting Group in Parlor
DESCRIPTION:
URL:https://rsfirstchurch.org/event/knitting-group-in-parlor-8-2/2028-01-06/
END:VEVENT
BEGIN:VEVENT
DTSTART;VALUE=DATE:20280109
DTEND;VALUE=DATE:20280110
DTSTAMP:20260422T005741
CREATED:20230119T190600Z
LAST-MODIFIED:20230119T190600Z
UID:10002854-1830988800-1831075199@rsfirstchurch.org
SUMMARY:Food Bank Collection
DESCRIPTION:
URL:https://rsfirstchurch.org/event/food-bank-collection/2028-01-09/
END:VEVENT
BEGIN:VEVENT
DTSTART;TZID=America/New_York:20280109T092500
DTEND;TZID=America/New_York:20280109T092500
DTSTAMP:20260422T005741
CREATED:20230119T183707Z
LAST-MODIFIED:20240620T140142Z
UID:10000264-1831022700-1831022700@rsfirstchurch.org
SUMMARY:Worship
DESCRIPTION:
URL:https://rsfirstchurch.org/event/worship/2028-01-09/
END:VEVENT
END:VCALENDAR