BEGIN:VCALENDAR
VERSION:2.0
PRODID:-//Roaring Spring First Church of the Brethren - ECPv6.11.2.1//NONSGML v1.0//EN
CALSCALE:GREGORIAN
METHOD:PUBLISH
X-WR-CALNAME:Roaring Spring First Church of the Brethren
X-ORIGINAL-URL:https://rsfirstchurch.org
X-WR-CALDESC:Events for Roaring Spring First Church of the Brethren
REFRESH-INTERVAL;VALUE=DURATION:PT1H
X-Robots-Tag:noindex
X-PUBLISHED-TTL:PT1H
BEGIN:VTIMEZONE
TZID:America/New_York
BEGIN:DAYLIGHT
TZOFFSETFROM:-0500
TZOFFSETTO:-0400
TZNAME:EDT
DTSTART:20230312T070000
END:DAYLIGHT
BEGIN:STANDARD
TZOFFSETFROM:-0400
TZOFFSETTO:-0500
TZNAME:EST
DTSTART:20231105T060000
END:STANDARD
END:VTIMEZONE
BEGIN:VEVENT
DTSTART;TZID=America/New_York:20230709T092500
DTEND;TZID=America/New_York:20230709T092500
DTSTAMP:20260421T091648
CREATED:20230119T183707Z
LAST-MODIFIED:20240620T140142Z
UID:10000029-1688894700-1688894700@rsfirstchurch.org
SUMMARY:Worship
DESCRIPTION:
URL:https://rsfirstchurch.org/event/worship/2023-07-09/
END:VEVENT
BEGIN:VEVENT
DTSTART;VALUE=DATE:20230709
DTEND;VALUE=DATE:20230710
DTSTAMP:20260421T091648
CREATED:20230119T190600Z
LAST-MODIFIED:20230119T190600Z
UID:10002800-1688860800-1688947199@rsfirstchurch.org
SUMMARY:Food Bank Collection
DESCRIPTION:
URL:https://rsfirstchurch.org/event/food-bank-collection/2023-07-09/
END:VEVENT
BEGIN:VEVENT
DTSTART;VALUE=DATE:20230708
DTEND;VALUE=DATE:20230709
DTSTAMP:20260421T091648
CREATED:20230120T135257Z
LAST-MODIFIED:20230120T140708Z
UID:10003299-1688774400-1688860799@rsfirstchurch.org
SUMMARY:Annual Conference
DESCRIPTION:
URL:https://rsfirstchurch.org/event/annual-conference/2023-07-08/
END:VEVENT
BEGIN:VEVENT
DTSTART;VALUE=DATE:20230707
DTEND;VALUE=DATE:20230708
DTSTAMP:20260421T091648
CREATED:20230120T135257Z
LAST-MODIFIED:20230120T140708Z
UID:10003298-1688688000-1688774399@rsfirstchurch.org
SUMMARY:Annual Conference
DESCRIPTION:
URL:https://rsfirstchurch.org/event/annual-conference/2023-07-07/
END:VEVENT
BEGIN:VEVENT
DTSTART;TZID=America/New_York:20230706T090000
DTEND;TZID=America/New_York:20230706T090000
DTSTAMP:20260421T091648
CREATED:20230119T185011Z
LAST-MODIFIED:20240403T151049Z
UID:10001856-1688634000-1688634000@rsfirstchurch.org
SUMMARY:Breakfast Fellowship at Spring House Grille
DESCRIPTION:
URL:https://rsfirstchurch.org/event/breakfast-fellowship-at-spring-house-grille/2023-07-06/
END:VEVENT
BEGIN:VEVENT
DTSTART;VALUE=DATE:20230706
DTEND;VALUE=DATE:20230707
DTSTAMP:20260421T091648
CREATED:20230120T135257Z
LAST-MODIFIED:20230120T140708Z
UID:10003297-1688601600-1688687999@rsfirstchurch.org
SUMMARY:Annual Conference
DESCRIPTION:
URL:https://rsfirstchurch.org/event/annual-conference/2023-07-06/
END:VEVENT
BEGIN:VEVENT
DTSTART;VALUE=DATE:20230705
DTEND;VALUE=DATE:20230706
DTSTAMP:20260421T091648
CREATED:20230120T135257Z
LAST-MODIFIED:20230120T140708Z
UID:10003296-1688515200-1688601599@rsfirstchurch.org
SUMMARY:Annual Conference
DESCRIPTION:
URL:https://rsfirstchurch.org/event/annual-conference/2023-07-05/
END:VEVENT
BEGIN:VEVENT
DTSTART;VALUE=DATE:20230704
DTEND;VALUE=DATE:20230705
DTSTAMP:20260421T091648
CREATED:20230120T135323Z
LAST-MODIFIED:20230120T135323Z
UID:10003295-1688428800-1688515199@rsfirstchurch.org
SUMMARY:Office Closed
DESCRIPTION:
URL:https://rsfirstchurch.org/event/office-closed-5/
END:VEVENT
BEGIN:VEVENT
DTSTART;VALUE=DATE:20230704
DTEND;VALUE=DATE:20230705
DTSTAMP:20260421T091648
CREATED:20230120T135257Z
LAST-MODIFIED:20230120T140708Z
UID:10003294-1688428800-1688515199@rsfirstchurch.org
SUMMARY:Annual Conference
DESCRIPTION:
URL:https://rsfirstchurch.org/event/annual-conference/2023-07-04/
END:VEVENT
BEGIN:VEVENT
DTSTART;TZID=America/New_York:20230702T103000
DTEND;TZID=America/New_York:20230702T103000
DTSTAMP:20260421T091648
CREATED:20230119T184106Z
LAST-MODIFIED:20260312T122652Z
UID:10000289-1688293800-1688293800@rsfirstchurch.org
SUMMARY:Sunday School
DESCRIPTION:
URL:https://rsfirstchurch.org/event/sunday-school/2023-07-02/
END:VEVENT
BEGIN:VEVENT
DTSTART;TZID=America/New_York:20230702T092500
DTEND;TZID=America/New_York:20230702T092500
DTSTAMP:20260421T091648
CREATED:20230119T183707Z
LAST-MODIFIED:20240620T140142Z
UID:10000028-1688289900-1688289900@rsfirstchurch.org
SUMMARY:Worship
DESCRIPTION:
URL:https://rsfirstchurch.org/event/worship/2023-07-02/
END:VEVENT
BEGIN:VEVENT
DTSTART;TZID=America/New_York:20230629T090000
DTEND;TZID=America/New_York:20230629T090000
DTSTAMP:20260421T091648
CREATED:20230119T185011Z
LAST-MODIFIED:20240403T151049Z
UID:10001855-1688029200-1688029200@rsfirstchurch.org
SUMMARY:Breakfast Fellowship at Spring House Grille
DESCRIPTION:
URL:https://rsfirstchurch.org/event/breakfast-fellowship-at-spring-house-grille/2023-06-29/
END:VEVENT
BEGIN:VEVENT
DTSTART;TZID=America/New_York:20230627T180000
DTEND;TZID=America/New_York:20230627T190000
DTSTAMP:20260421T091648
CREATED:20230531T140831Z
LAST-MODIFIED:20230531T140831Z
UID:10004204-1687888800-1687892400@rsfirstchurch.org
SUMMARY:Leadership Meeting
DESCRIPTION:
URL:https://rsfirstchurch.org/event/leadership-meeting-4/
END:VEVENT
BEGIN:VEVENT
DTSTART;TZID=America/New_York:20230627T093000
DTEND;TZID=America/New_York:20230627T103000
DTSTAMP:20260421T091648
CREATED:20230119T184415Z
LAST-MODIFIED:20230120T160635Z
UID:10000550-1687858200-1687861800@rsfirstchurch.org
SUMMARY:Bible Study
DESCRIPTION:
URL:https://rsfirstchurch.org/event/bible-study/2023-06-27/
END:VEVENT
BEGIN:VEVENT
DTSTART;TZID=America/New_York:20230625T103000
DTEND;TZID=America/New_York:20230625T103000
DTSTAMP:20260421T091648
CREATED:20230119T184106Z
LAST-MODIFIED:20260312T122652Z
UID:10000288-1687689000-1687689000@rsfirstchurch.org
SUMMARY:Sunday School
DESCRIPTION:
URL:https://rsfirstchurch.org/event/sunday-school/2023-06-25/
END:VEVENT
BEGIN:VEVENT
DTSTART;TZID=America/New_York:20230625T092500
DTEND;TZID=America/New_York:20230625T092500
DTSTAMP:20260421T091648
CREATED:20230119T183707Z
LAST-MODIFIED:20240620T140142Z
UID:10000027-1687685100-1687685100@rsfirstchurch.org
SUMMARY:Worship
DESCRIPTION:
URL:https://rsfirstchurch.org/event/worship/2023-06-25/
END:VEVENT
BEGIN:VEVENT
DTSTART;TZID=America/New_York:20230624T193000
DTEND;TZID=America/New_York:20230624T213000
DTSTAMP:20260421T091648
CREATED:20230531T141656Z
LAST-MODIFIED:20230531T141656Z
UID:10004834-1687635000-1687642200@rsfirstchurch.org
SUMMARY:Pool Party
DESCRIPTION:
URL:https://rsfirstchurch.org/event/pool-party/
END:VEVENT
BEGIN:VEVENT
DTSTART;TZID=America/New_York:20230622T090000
DTEND;TZID=America/New_York:20230622T090000
DTSTAMP:20260421T091648
CREATED:20230119T185011Z
LAST-MODIFIED:20240403T151049Z
UID:10001854-1687424400-1687424400@rsfirstchurch.org
SUMMARY:Breakfast Fellowship at Spring House Grille
DESCRIPTION:
URL:https://rsfirstchurch.org/event/breakfast-fellowship-at-spring-house-grille/2023-06-22/
END:VEVENT
BEGIN:VEVENT
DTSTART;TZID=America/New_York:20230620T180000
DTEND;TZID=America/New_York:20230620T190000
DTSTAMP:20260421T091648
CREATED:20230119T191708Z
LAST-MODIFIED:20231102T134057Z
UID:10003103-1687284000-1687287600@rsfirstchurch.org
SUMMARY:Sisters of Faith
DESCRIPTION:
URL:https://rsfirstchurch.org/event/sisters-of-faith/2023-06-20/
END:VEVENT
BEGIN:VEVENT
DTSTART;TZID=America/New_York:20230620T093000
DTEND;TZID=America/New_York:20230620T103000
DTSTAMP:20260421T091648
CREATED:20230119T184415Z
LAST-MODIFIED:20230120T160635Z
UID:10000549-1687253400-1687257000@rsfirstchurch.org
SUMMARY:Bible Study
DESCRIPTION:
URL:https://rsfirstchurch.org/event/bible-study/2023-06-20/
END:VEVENT
BEGIN:VEVENT
DTSTART;TZID=America/New_York:20230619T100000
DTEND;TZID=America/New_York:20230619T110000
DTSTAMP:20260421T091648
CREATED:20230119T191553Z
LAST-MODIFIED:20230120T160744Z
UID:10003043-1687168800-1687172400@rsfirstchurch.org
SUMMARY:Book Group
DESCRIPTION:
URL:https://rsfirstchurch.org/event/book-group/2023-06-19/
END:VEVENT
BEGIN:VEVENT
DTSTART;TZID=America/New_York:20230618T103000
DTEND;TZID=America/New_York:20230618T103000
DTSTAMP:20260421T091648
CREATED:20230119T184106Z
LAST-MODIFIED:20260312T122652Z
UID:10000287-1687084200-1687084200@rsfirstchurch.org
SUMMARY:Sunday School
DESCRIPTION:
URL:https://rsfirstchurch.org/event/sunday-school/2023-06-18/
END:VEVENT
BEGIN:VEVENT
DTSTART;TZID=America/New_York:20230618T092500
DTEND;TZID=America/New_York:20230618T092500
DTSTAMP:20260421T091648
CREATED:20230119T183707Z
LAST-MODIFIED:20240620T140142Z
UID:10000026-1687080300-1687080300@rsfirstchurch.org
SUMMARY:Worship
DESCRIPTION:
URL:https://rsfirstchurch.org/event/worship/2023-06-18/
END:VEVENT
BEGIN:VEVENT
DTSTART;VALUE=DATE:20230618
DTEND;VALUE=DATE:20230619
DTSTAMP:20260421T091648
CREATED:20230531T140551Z
LAST-MODIFIED:20230531T140551Z
UID:10004203-1687046400-1687132799@rsfirstchurch.org
SUMMARY:National Junior high Conference
DESCRIPTION:
URL:https://rsfirstchurch.org/event/national-junior-high-conference/
END:VEVENT
BEGIN:VEVENT
DTSTART;TZID=America/New_York:20230617T080000
DTEND;TZID=America/New_York:20230617T080000
DTSTAMP:20260421T091648
CREATED:20230119T185328Z
LAST-MODIFIED:20250818T151210Z
UID:10002618-1686988800-1686988800@rsfirstchurch.org
SUMMARY:Men's Fellowship Breakfast
DESCRIPTION:
URL:https://rsfirstchurch.org/event/mens-fellowship-breakfast/2023-06-17/
END:VEVENT
BEGIN:VEVENT
DTSTART;VALUE=DATE:20230617
DTEND;VALUE=DATE:20230618
DTSTAMP:20260421T091648
CREATED:20230531T141339Z
LAST-MODIFIED:20230531T141538Z
UID:10004467-1686960000-1687046399@rsfirstchurch.org
SUMMARY:National Junior high Conference
DESCRIPTION:
URL:https://rsfirstchurch.org/event/national-junior-high-conference-2/2023-06-17/
END:VEVENT
BEGIN:VEVENT
DTSTART;VALUE=DATE:20230616
DTEND;VALUE=DATE:20230617
DTSTAMP:20260421T091648
CREATED:20230531T141339Z
LAST-MODIFIED:20230531T141538Z
UID:10004466-1686873600-1686959999@rsfirstchurch.org
SUMMARY:National Junior high Conference
DESCRIPTION:
URL:https://rsfirstchurch.org/event/national-junior-high-conference-2/2023-06-16/
END:VEVENT
BEGIN:VEVENT
DTSTART;TZID=America/New_York:20230615T130000
DTEND;TZID=America/New_York:20230615T140000
DTSTAMP:20260421T091648
CREATED:20230119T191109Z
LAST-MODIFIED:20230120T155655Z
UID:10004178-1686834000-1686837600@rsfirstchurch.org
SUMMARY:Newsletter Submission Deadline
DESCRIPTION:
URL:https://rsfirstchurch.org/event/newsletter-submission-deadline/2023-06-15/
END:VEVENT
BEGIN:VEVENT
DTSTART;TZID=America/New_York:20230615T090000
DTEND;TZID=America/New_York:20230615T090000
DTSTAMP:20260421T091648
CREATED:20230119T185011Z
LAST-MODIFIED:20240403T151049Z
UID:10001853-1686819600-1686819600@rsfirstchurch.org
SUMMARY:Breakfast Fellowship at Spring House Grille
DESCRIPTION:
URL:https://rsfirstchurch.org/event/breakfast-fellowship-at-spring-house-grille/2023-06-15/
END:VEVENT
BEGIN:VEVENT
DTSTART;VALUE=DATE:20230615
DTEND;VALUE=DATE:20230616
DTSTAMP:20260421T091648
CREATED:20230330T131906Z
LAST-MODIFIED:20230330T131906Z
UID:10004200-1686787200-1686873599@rsfirstchurch.org
SUMMARY:BUS TRIP TO MUSEUM OF THE BIBLE WASHINGTON DC
DESCRIPTION:THURSDAY\, JUNE 15\, 2023 \nSPONSORED BY ROARING SPRING 1ST CoB \nWe will be taking a Bus Trip to The Museum of the Bible on Thursday\, June 15. Leaving the Giant Eagle Parking Lot in Roaring Spring at 7:00 am & stopping for a quick breakfast on our way. We will arrive at the museum around 10:30. Then we can visit the 3rd & 4th floors of the museum exhibits. There is a small cafe on the 2nd level to get something for lunch or bring a snack from home as we will be eating dinner\naround 4 p.m. at The Golden Coral in Hagerstown\, MD. We will leave the museum at 2:30 p.m.\nThe tour is self-guided. There is a lot of walking and standing\, as you read about the exhibits\, so wear comfortable shoes. \nIf interested contact Sharon Hammel @ 814-224-9918 by May 1st. If there is no answer\, please leave a message. The cost is $95.00 per person\, any age. This includes the bus\, museum and tip for the driver. Meals are on your own. Checks need to be at Church by May 9th. \nMAKE CHECKS PAYABLE TO: ROARING SPRING FIRST CHURCH OF THE BRETHREN (PLEASE ADD BUS TRIP & NUMBER OF TICKETS NEEDED) and mail or dropped off to: \nROARING SPRING 1ST CHURCH OF THE BRETHREN \n901 Bloomfield S.t Roaring Spring\, AP 16673
URL:https://rsfirstchurch.org/event/bus-trip-to-museum-of-the-bible-washington-dc/
END:VEVENT
END:VCALENDAR