BEGIN:VCALENDAR
VERSION:2.0
PRODID:-//Roaring Spring First Church of the Brethren - ECPv6.11.2.1//NONSGML v1.0//EN
CALSCALE:GREGORIAN
METHOD:PUBLISH
X-WR-CALNAME:Roaring Spring First Church of the Brethren
X-ORIGINAL-URL:https://rsfirstchurch.org
X-WR-CALDESC:Events for Roaring Spring First Church of the Brethren
REFRESH-INTERVAL;VALUE=DURATION:PT1H
X-Robots-Tag:noindex
X-PUBLISHED-TTL:PT1H
BEGIN:VTIMEZONE
TZID:America/New_York
BEGIN:DAYLIGHT
TZOFFSETFROM:-0500
TZOFFSETTO:-0400
TZNAME:EDT
DTSTART:20230312T070000
END:DAYLIGHT
BEGIN:STANDARD
TZOFFSETFROM:-0400
TZOFFSETTO:-0500
TZNAME:EST
DTSTART:20231105T060000
END:STANDARD
END:VTIMEZONE
BEGIN:VEVENT
DTSTART;TZID=America/New_York:20230619T100000
DTEND;TZID=America/New_York:20230619T110000
DTSTAMP:20260421T122041
CREATED:20230119T191553Z
LAST-MODIFIED:20230120T160744Z
UID:10003043-1687168800-1687172400@rsfirstchurch.org
SUMMARY:Book Group
DESCRIPTION:
URL:https://rsfirstchurch.org/event/book-group/2023-06-19/
END:VEVENT
BEGIN:VEVENT
DTSTART;TZID=America/New_York:20230618T103000
DTEND;TZID=America/New_York:20230618T103000
DTSTAMP:20260421T122041
CREATED:20230119T184106Z
LAST-MODIFIED:20260312T122652Z
UID:10000287-1687084200-1687084200@rsfirstchurch.org
SUMMARY:Sunday School
DESCRIPTION:
URL:https://rsfirstchurch.org/event/sunday-school/2023-06-18/
END:VEVENT
BEGIN:VEVENT
DTSTART;TZID=America/New_York:20230618T092500
DTEND;TZID=America/New_York:20230618T092500
DTSTAMP:20260421T122041
CREATED:20230119T183707Z
LAST-MODIFIED:20240620T140142Z
UID:10000026-1687080300-1687080300@rsfirstchurch.org
SUMMARY:Worship
DESCRIPTION:
URL:https://rsfirstchurch.org/event/worship/2023-06-18/
END:VEVENT
BEGIN:VEVENT
DTSTART;VALUE=DATE:20230618
DTEND;VALUE=DATE:20230619
DTSTAMP:20260421T122041
CREATED:20230531T140551Z
LAST-MODIFIED:20230531T140551Z
UID:10004203-1687046400-1687132799@rsfirstchurch.org
SUMMARY:National Junior high Conference
DESCRIPTION:
URL:https://rsfirstchurch.org/event/national-junior-high-conference/
END:VEVENT
BEGIN:VEVENT
DTSTART;TZID=America/New_York:20230617T080000
DTEND;TZID=America/New_York:20230617T080000
DTSTAMP:20260421T122041
CREATED:20230119T185328Z
LAST-MODIFIED:20250818T151210Z
UID:10002618-1686988800-1686988800@rsfirstchurch.org
SUMMARY:Men's Fellowship Breakfast
DESCRIPTION:
URL:https://rsfirstchurch.org/event/mens-fellowship-breakfast/2023-06-17/
END:VEVENT
BEGIN:VEVENT
DTSTART;VALUE=DATE:20230617
DTEND;VALUE=DATE:20230618
DTSTAMP:20260421T122041
CREATED:20230531T141339Z
LAST-MODIFIED:20230531T141538Z
UID:10004467-1686960000-1687046399@rsfirstchurch.org
SUMMARY:National Junior high Conference
DESCRIPTION:
URL:https://rsfirstchurch.org/event/national-junior-high-conference-2/2023-06-17/
END:VEVENT
BEGIN:VEVENT
DTSTART;VALUE=DATE:20230616
DTEND;VALUE=DATE:20230617
DTSTAMP:20260421T122041
CREATED:20230531T141339Z
LAST-MODIFIED:20230531T141538Z
UID:10004466-1686873600-1686959999@rsfirstchurch.org
SUMMARY:National Junior high Conference
DESCRIPTION:
URL:https://rsfirstchurch.org/event/national-junior-high-conference-2/2023-06-16/
END:VEVENT
BEGIN:VEVENT
DTSTART;TZID=America/New_York:20230615T130000
DTEND;TZID=America/New_York:20230615T140000
DTSTAMP:20260421T122041
CREATED:20230119T191109Z
LAST-MODIFIED:20230120T155655Z
UID:10004178-1686834000-1686837600@rsfirstchurch.org
SUMMARY:Newsletter Submission Deadline
DESCRIPTION:
URL:https://rsfirstchurch.org/event/newsletter-submission-deadline/2023-06-15/
END:VEVENT
BEGIN:VEVENT
DTSTART;TZID=America/New_York:20230615T090000
DTEND;TZID=America/New_York:20230615T090000
DTSTAMP:20260421T122041
CREATED:20230119T185011Z
LAST-MODIFIED:20240403T151049Z
UID:10001853-1686819600-1686819600@rsfirstchurch.org
SUMMARY:Breakfast Fellowship at Spring House Grille
DESCRIPTION:
URL:https://rsfirstchurch.org/event/breakfast-fellowship-at-spring-house-grille/2023-06-15/
END:VEVENT
BEGIN:VEVENT
DTSTART;VALUE=DATE:20230615
DTEND;VALUE=DATE:20230616
DTSTAMP:20260421T122041
CREATED:20230330T131906Z
LAST-MODIFIED:20230330T131906Z
UID:10004200-1686787200-1686873599@rsfirstchurch.org
SUMMARY:BUS TRIP TO MUSEUM OF THE BIBLE WASHINGTON DC
DESCRIPTION:THURSDAY\, JUNE 15\, 2023 \nSPONSORED BY ROARING SPRING 1ST CoB \nWe will be taking a Bus Trip to The Museum of the Bible on Thursday\, June 15. Leaving the Giant Eagle Parking Lot in Roaring Spring at 7:00 am & stopping for a quick breakfast on our way. We will arrive at the museum around 10:30. Then we can visit the 3rd & 4th floors of the museum exhibits. There is a small cafe on the 2nd level to get something for lunch or bring a snack from home as we will be eating dinner\naround 4 p.m. at The Golden Coral in Hagerstown\, MD. We will leave the museum at 2:30 p.m.\nThe tour is self-guided. There is a lot of walking and standing\, as you read about the exhibits\, so wear comfortable shoes. \nIf interested contact Sharon Hammel @ 814-224-9918 by May 1st. If there is no answer\, please leave a message. The cost is $95.00 per person\, any age. This includes the bus\, museum and tip for the driver. Meals are on your own. Checks need to be at Church by May 9th. \nMAKE CHECKS PAYABLE TO: ROARING SPRING FIRST CHURCH OF THE BRETHREN (PLEASE ADD BUS TRIP & NUMBER OF TICKETS NEEDED) and mail or dropped off to: \nROARING SPRING 1ST CHURCH OF THE BRETHREN \n901 Bloomfield S.t Roaring Spring\, AP 16673
URL:https://rsfirstchurch.org/event/bus-trip-to-museum-of-the-bible-washington-dc/
END:VEVENT
BEGIN:VEVENT
DTSTART;TZID=America/New_York:20230613T190000
DTEND;TZID=America/New_York:20230613T200000
DTSTAMP:20260421T122041
CREATED:20230119T190825Z
LAST-MODIFIED:20230120T160539Z
UID:10002919-1686682800-1686686400@rsfirstchurch.org
SUMMARY:Good Grief
DESCRIPTION:
URL:https://rsfirstchurch.org/event/good-grief/2023-06-13/
END:VEVENT
BEGIN:VEVENT
DTSTART;TZID=America/New_York:20230613T093000
DTEND;TZID=America/New_York:20230613T103000
DTSTAMP:20260421T122041
CREATED:20230119T184415Z
LAST-MODIFIED:20230120T160635Z
UID:10000548-1686648600-1686652200@rsfirstchurch.org
SUMMARY:Bible Study
DESCRIPTION:
URL:https://rsfirstchurch.org/event/bible-study/2023-06-13/
END:VEVENT
BEGIN:VEVENT
DTSTART;TZID=America/New_York:20230611T104500
DTEND;TZID=America/New_York:20230611T114500
DTSTAMP:20260421T122041
CREATED:20230531T140507Z
LAST-MODIFIED:20230531T140507Z
UID:10004202-1686480300-1686483900@rsfirstchurch.org
SUMMARY:Fellowship Time
DESCRIPTION:
URL:https://rsfirstchurch.org/event/fellowship-time-4/
END:VEVENT
BEGIN:VEVENT
DTSTART;TZID=America/New_York:20230611T103000
DTEND;TZID=America/New_York:20230611T103000
DTSTAMP:20260421T122041
CREATED:20230119T184106Z
LAST-MODIFIED:20260312T122652Z
UID:10008316-1686479400-1686479400@rsfirstchurch.org
SUMMARY:Sunday School
DESCRIPTION:
URL:https://rsfirstchurch.org/event/sunday-school/2023-06-11/
END:VEVENT
BEGIN:VEVENT
DTSTART;TZID=America/New_York:20230611T092500
DTEND;TZID=America/New_York:20230611T092500
DTSTAMP:20260421T122041
CREATED:20230119T183707Z
LAST-MODIFIED:20240620T140142Z
UID:10000025-1686475500-1686475500@rsfirstchurch.org
SUMMARY:Worship
DESCRIPTION:
URL:https://rsfirstchurch.org/event/worship/2023-06-11/
END:VEVENT
BEGIN:VEVENT
DTSTART;VALUE=DATE:20230611
DTEND;VALUE=DATE:20230612
DTSTAMP:20260421T122041
CREATED:20230120T134917Z
LAST-MODIFIED:20230120T134917Z
UID:10003293-1686441600-1686527999@rsfirstchurch.org
SUMMARY:Church Picnic
DESCRIPTION:
URL:https://rsfirstchurch.org/event/church-picnic/
END:VEVENT
BEGIN:VEVENT
DTSTART;VALUE=DATE:20230611
DTEND;VALUE=DATE:20230612
DTSTAMP:20260421T122041
CREATED:20230119T190600Z
LAST-MODIFIED:20230119T190600Z
UID:10002799-1686441600-1686527999@rsfirstchurch.org
SUMMARY:Food Bank Collection
DESCRIPTION:
URL:https://rsfirstchurch.org/event/food-bank-collection/2023-06-11/
END:VEVENT
BEGIN:VEVENT
DTSTART;TZID=America/New_York:20230608T090000
DTEND;TZID=America/New_York:20230608T090000
DTSTAMP:20260421T122041
CREATED:20230119T185011Z
LAST-MODIFIED:20240403T151049Z
UID:10001852-1686214800-1686214800@rsfirstchurch.org
SUMMARY:Breakfast Fellowship at Spring House Grille
DESCRIPTION:
URL:https://rsfirstchurch.org/event/breakfast-fellowship-at-spring-house-grille/2023-06-08/
END:VEVENT
BEGIN:VEVENT
DTSTART;TZID=America/New_York:20230606T093000
DTEND;TZID=America/New_York:20230606T103000
DTSTAMP:20260421T122041
CREATED:20230119T184415Z
LAST-MODIFIED:20230120T160635Z
UID:10000547-1686043800-1686047400@rsfirstchurch.org
SUMMARY:Bible Study
DESCRIPTION:
URL:https://rsfirstchurch.org/event/bible-study/2023-06-06/
END:VEVENT
BEGIN:VEVENT
DTSTART;TZID=America/New_York:20230605T180000
DTEND;TZID=America/New_York:20230605T190000
DTSTAMP:20260421T122041
CREATED:20230531T140656Z
LAST-MODIFIED:20230728T171630Z
UID:10003164-1685988000-1685991600@rsfirstchurch.org
SUMMARY:Leadership Meeting
DESCRIPTION:
URL:https://rsfirstchurch.org/event/leadership-meeting-2-2-2/2023-06-05/
END:VEVENT
BEGIN:VEVENT
DTSTART;TZID=America/New_York:20230604T103000
DTEND;TZID=America/New_York:20230604T103000
DTSTAMP:20260421T122041
CREATED:20230119T184106Z
LAST-MODIFIED:20260312T122652Z
UID:10000285-1685874600-1685874600@rsfirstchurch.org
SUMMARY:Sunday School
DESCRIPTION:
URL:https://rsfirstchurch.org/event/sunday-school/2023-06-04/
END:VEVENT
BEGIN:VEVENT
DTSTART;TZID=America/New_York:20230604T092500
DTEND;TZID=America/New_York:20230604T092500
DTSTAMP:20260421T122041
CREATED:20230119T183707Z
LAST-MODIFIED:20240620T140142Z
UID:10000024-1685870700-1685870700@rsfirstchurch.org
SUMMARY:Worship
DESCRIPTION:
URL:https://rsfirstchurch.org/event/worship/2023-06-04/
END:VEVENT
BEGIN:VEVENT
DTSTART;TZID=America/New_York:20230604T080000
DTEND;TZID=America/New_York:20230604T080000
DTSTAMP:20260421T122041
CREATED:20230531T140345Z
LAST-MODIFIED:20240403T150954Z
UID:10004201-1685865600-1685865600@rsfirstchurch.org
SUMMARY:Graduation Breakfast
DESCRIPTION:
URL:https://rsfirstchurch.org/event/graduation-breakfast/
END:VEVENT
BEGIN:VEVENT
DTSTART;VALUE=DATE:20230604
DTEND;VALUE=DATE:20230605
DTSTAMP:20260421T122041
CREATED:20230120T134554Z
LAST-MODIFIED:20230120T134554Z
UID:10003292-1685836800-1685923199@rsfirstchurch.org
SUMMARY:Graduation Sunday
DESCRIPTION:
URL:https://rsfirstchurch.org/event/graduation-sunday/
END:VEVENT
BEGIN:VEVENT
DTSTART;TZID=America/New_York:20230601T090000
DTEND;TZID=America/New_York:20230601T090000
DTSTAMP:20260421T122041
CREATED:20230119T185011Z
LAST-MODIFIED:20240403T151049Z
UID:10001851-1685610000-1685610000@rsfirstchurch.org
SUMMARY:Breakfast Fellowship at Spring House Grille
DESCRIPTION:
URL:https://rsfirstchurch.org/event/breakfast-fellowship-at-spring-house-grille/2023-06-01/
END:VEVENT
BEGIN:VEVENT
DTSTART;TZID=America/New_York:20230531T183000
DTEND;TZID=America/New_York:20230531T193000
DTSTAMP:20260421T122041
CREATED:20230119T184845Z
LAST-MODIFIED:20230120T134819Z
UID:10001590-1685557800-1685561400@rsfirstchurch.org
SUMMARY:Chancel Choir Practice
DESCRIPTION:
URL:https://rsfirstchurch.org/event/chancel-choir-practice/2023-05-31/
END:VEVENT
BEGIN:VEVENT
DTSTART;TZID=America/New_York:20230530T093000
DTEND;TZID=America/New_York:20230530T103000
DTSTAMP:20260421T122041
CREATED:20230119T184415Z
LAST-MODIFIED:20230120T160635Z
UID:10000546-1685439000-1685442600@rsfirstchurch.org
SUMMARY:Bible Study
DESCRIPTION:
URL:https://rsfirstchurch.org/event/bible-study/2023-05-30/
END:VEVENT
BEGIN:VEVENT
DTSTART;VALUE=DATE:20230529
DTEND;VALUE=DATE:20230530
DTSTAMP:20260421T122041
CREATED:20230120T134433Z
LAST-MODIFIED:20230120T134433Z
UID:10003291-1685318400-1685404799@rsfirstchurch.org
SUMMARY:Office Closed
DESCRIPTION:
URL:https://rsfirstchurch.org/event/office-closed-4/
END:VEVENT
BEGIN:VEVENT
DTSTART;TZID=America/New_York:20230528T103000
DTEND;TZID=America/New_York:20230528T103000
DTSTAMP:20260421T122041
CREATED:20230119T184106Z
LAST-MODIFIED:20260312T122652Z
UID:10000284-1685269800-1685269800@rsfirstchurch.org
SUMMARY:Sunday School
DESCRIPTION:
URL:https://rsfirstchurch.org/event/sunday-school/2023-05-28/
END:VEVENT
BEGIN:VEVENT
DTSTART;TZID=America/New_York:20230528T092500
DTEND;TZID=America/New_York:20230528T092500
DTSTAMP:20260421T122041
CREATED:20230119T183707Z
LAST-MODIFIED:20240620T140142Z
UID:10000023-1685265900-1685265900@rsfirstchurch.org
SUMMARY:Worship
DESCRIPTION:
URL:https://rsfirstchurch.org/event/worship/2023-05-28/
END:VEVENT
END:VCALENDAR